BEGIN:VCALENDAR
VERSION:2.0
PRODID:-//ChamberMaster//Event Calendar 2.0//EN
METHOD:PUBLISH
X-PUBLISHED-TTL:P3D
REFRESH-INTERVAL:P3D
CALSCALE:GREGORIAN
BEGIN:VEVENT
DTSTART:20231021T180000Z
DTEND:20231022T020000Z
X-MICROSOFT-CDO-ALLDAYEVENT:FALSE
SUMMARY:Fall Family Fun at Williams Reindeer Farm
DESCRIPTION:The Reindeer Farm's most popular event!\n\nFall Family Fun 2023!\n\nDress for the weather! \n\nPony rides\, spooky walk\, hay maze\, pumpkin patch and more!\n\nBook tickets online here to guarantee entry.\n\nThis event will sell out!\n\n\n\nPrice includes: entry\, petting and photos with reindeer\, pony rides (10 and under) spooky walk\, reindeer train ride\, tractor pulled wagon rides\, hay bale maze\, live music\, horse drawn wagon ride and kids play area.\n\n\n\nAdditional cost: Barista stand\, pumpkin from pumpkin patch ($15 with purchase of admission\, $20 per pumpkin without admission into the event. Limited pumpkins\, first come\, first serve and only while supplies last)\n\nHusky Burger food truck
X-ALT-DESC;FMTTYPE=text/html:The Reindeer Farm&#39\;s most popular event!<br />\nFall Family Fun 2023!<br />\nDress for the weather!&nbsp\;<br />\nPony rides\, spooky walk\, hay maze\, pumpkin patch and more!<br />\nBook tickets online <a href="https://www.reindeerfarm.com/activities/fall-family-fun/?fbclid=IwAR2XRR3Cf-ETn0nf7Gatdwg2Whg5PdI_O8jXTdLMo1Jx304mbNofcvMPg14">here </a>to guarantee entry.<br />\n<strong>This event will sell out!</strong><br />\n<br />\nPrice includes: entry\, petting and photos with reindeer\, pony rides (10 and under) spooky walk\, reindeer train ride\, tractor pulled wagon rides\, hay bale maze\, live music\, horse drawn wagon ride and kids play area.<br />\n<br />\nAdditional cost: Barista stand\, pumpkin from pumpkin patch ($15 with purchase of admission\, $20 per pumpkin without admission into the event. Limited pumpkins\, first come\, first serve and only while supplies last)<br />\nHusky Burger food truck
LOCATION:Williams Reindeer Farm 5561 S. Bodenburg Loop Palmer\, AK 99645
UID:e.3185.21195
SEQUENCE:3
DTSTAMP:20260423T145111Z
URL:https://business.wasillachamber.org/events/details/fall-family-fun-at-williams-reindeer-farm-21195
END:VEVENT

END:VCALENDAR
