BEGIN:VCALENDAR
VERSION:2.0
PRODID:-//ChamberMaster//Event Calendar 2.0//EN
METHOD:PUBLISH
X-PUBLISHED-TTL:P3D
REFRESH-INTERVAL:P3D
CALSCALE:GREGORIAN
BEGIN:VEVENT
DTSTART:20230902T210000Z
DTEND:20230903T000000Z
X-MICROSOFT-CDO-ALLDAYEVENT:FALSE
SUMMARY:End of Summer Plant Swap at Wasilla Library
DESCRIPTION:Brighten up your home! All are welcome to join at the Wasilla Public Library for End of Summer Plant Swap.\n\nParticipation is easy! All you have to do is: \n\n1. On the day of the swap\, bring your plant/s (small\, propagated plants are welcome\, but no trees or large outdoor plants please!)\n\n2. Browse for plants!\n\n3. Go home and enjoy your new plant friends.
X-ALT-DESC;FMTTYPE=text/html:Brighten up your home! All are welcome to join at the Wasilla Public Library for End of Summer Plant Swap.<br />\nParticipation is easy! All you have to do is:&nbsp\;<br />\n1. On the day of the swap\, bring your plant/s (small\, propagated plants are welcome\, but no trees or large outdoor plants please!)<br />\n2. Browse for plants!<br />\n3. Go home and enjoy your new plant friends.
LOCATION:Wasilla Public Library Multipurpose Room 500 N. Crusey St. Wasilla\, AK 99654
UID:e.3185.20899
SEQUENCE:3
DTSTAMP:20260423T144346Z
URL:https://business.wasillachamber.org/events/details/end-of-summer-plant-swap-at-wasilla-library-20899
END:VEVENT

END:VCALENDAR
