BEGIN:VCALENDAR
VERSION:2.0
PRODID:-//ChamberMaster//Event Calendar 2.0//EN
METHOD:PUBLISH
X-PUBLISHED-TTL:P3D
REFRESH-INTERVAL:P3D
CALSCALE:GREGORIAN
BEGIN:VEVENT
DTSTART:20231014T200000Z
DTEND:20231014T230000Z
X-MICROSOFT-CDO-ALLDAYEVENT:FALSE
SUMMARY:Disney's The Hunchback of Notre Dame VPA Auditions
DESCRIPTION:Disney's The Hunchback of Notre Dame Dance Auditions\n\n\n\nPerformance Dates: March - April 2024\n\n\n\nThis will be a FUN audition ... make up your mind NOW that you are going to have fun and enjoy the time spent with all of us at the theater.\n\nThe show is a musical. Because of that\, it requires that we have solo-quality male and female vocalists in the lead roles as well as lead voices and chorus members that can blend with one another. It is not absolutely necessary to prepare something in advance\, you may bring sheet music - ac accompanist will be provided.\n\nWe can't all dance like Fred Astaire or Ginger Rogers however this is a musical that also has choreography so be prepared to spend a little time with our choreographer so we can see if you have two left feet or not. Nothing difficult\, wearing comfortable clothing and shoes would be a good idea.\n\nYou'll be asked to participate in some engaging activities. Come prepared to share a story\, a joke\, a poem\, an interesting anecdote. You'll also be asked to do some improvisation and/or a pantomime on a given subject. \n\nThis show is all about having a good time and providing a quality experience for those that come to the show and having a great time with the audience.
X-ALT-DESC;FMTTYPE=text/html:Disney&#39\;s The Hunchback of Notre Dame Dance Auditions<br />\n<br />\nPerformance Dates: March - April 2024<br />\n<br />\nThis will be a FUN audition ... make up your mind NOW that you are going to have fun and enjoy the time spent with all of us at the theater.<br />\nThe show is a musical. Because of that\, it requires that we have solo-quality male and female vocalists in the lead roles as well as lead voices and chorus members that can blend with one another. It is not absolutely necessary to prepare something in advance\, you may bring sheet music - ac accompanist will be provided.<br />\nWe can&#39\;t all dance like Fred Astaire or Ginger Rogers however this is a musical that also has choreography so be prepared to spend a little time with our choreographer so we can see if you have two left feet or not. Nothing difficult\, wearing comfortable clothing and shoes would be a good idea.<br />\nYou&#39\;ll be asked to participate in some engaging activities. Come prepared to share a story\, a joke\, a poem\, an interesting anecdote. You&#39\;ll also be asked to do some improvisation and/or a pantomime on a given subject.&nbsp\;<br />\nThis show is all about having a good time and providing a quality experience for those that come to the show and having a great time with the audience.
LOCATION:Valley Performing Arts 251 W. Swanson Ave Wasilla\, AK 99654
UID:e.3185.21141
SEQUENCE:3
DTSTAMP:20260423T145815Z
URL:https://business.wasillachamber.org/events/details/disney-s-the-hunchback-of-notre-dame-vpa-auditions-21141
END:VEVENT

END:VCALENDAR
