BEGIN:VCALENDAR
VERSION:2.0
PRODID:-//ChamberMaster//Event Calendar 2.0//EN
METHOD:PUBLISH
X-PUBLISHED-TTL:P3D
REFRESH-INTERVAL:P3D
CALSCALE:GREGORIAN
BEGIN:VEVENT
DTSTART;VALUE=DATE:20231005
DTEND;VALUE=DATE:20231006
TRANSP:TRANSPARENT
X-MICROSOFT-CDO-ALLDAYEVENT:TRUE
SUMMARY:Deadline to Participate in GWCC 2023 Support Local November
DESCRIPTION:Join the Greater Wasilla Chamber of Commerce for Support Local 2023!\n\nParticipating businesses have until October 2nd to commit to participating for this annual GWCC promotion!\n\nJust like last year\, this event will take place during the entire month of November with weekly giveaways for members of the community that patronize participating businesses. \n\nDon't miss out on the 2023 GWCC Support Local November Campaign! Get a hold of us to get signed up today!
X-ALT-DESC;FMTTYPE=text/html:Join the Greater Wasilla Chamber of Commerce for Support Local 2023!<br />\nParticipating businesses have until October 2nd to commit to participating for this annual GWCC promotion!<br />\nJust like last year\, this event will take place during the entire month of November with weekly giveaways for members of the community that patronize participating businesses.&nbsp\;<br />\nDon&#39\;t miss out on the 2023 GWCC Support Local November Campaign! Get a hold of us to get signed up today!
LOCATION:
UID:e.3185.20949
SEQUENCE:3
DTSTAMP:20260423T144116Z
URL:https://business.wasillachamber.org/events/details/deadline-to-participate-in-gwcc-2023-support-local-november-20949
END:VEVENT

END:VCALENDAR
