BEGIN:VCALENDAR
VERSION:2.0
PRODID:-//ChamberMaster//Event Calendar 2.0//EN
METHOD:PUBLISH
X-PUBLISHED-TTL:P3D
REFRESH-INTERVAL:P3D
CALSCALE:GREGORIAN
BEGIN:VEVENT
DTSTART;VALUE=DATE:20231027
DTEND;VALUE=DATE:20231028
TRANSP:TRANSPARENT
X-MICROSOFT-CDO-ALLDAYEVENT:TRUE
SUMMARY:Deadline to Donate to WASI for Online Auction
DESCRIPTION:Help support Wasilla Area Seniors this holiday season by donating an item\, gift card or gift basket to their online auction benefiting Meals on Wheels Mat-Su Valley.\n\nDonated items appreciated before October 27th.\n\nOnline auction will run from November 4th - 14th.
X-ALT-DESC;FMTTYPE=text/html:Help support Wasilla Area Seniors this holiday season by donating an item\, gift card or gift basket to their online auction benefiting Meals on Wheels Mat-Su Valley.<br />\nDonated items appreciated before October 27th.<br />\nOnline auction will run from November 4th - 14th.
LOCATION:Wasilla Area Seniors 1301 S Century Cir. Wasilla\, AK 99654
UID:e.3185.21148
SEQUENCE:3
DTSTAMP:20260423T144215Z
URL:https://business.wasillachamber.org/events/details/deadline-to-donate-to-wasi-for-online-auction-21148
END:VEVENT

END:VCALENDAR
