BEGIN:VCALENDAR
VERSION:2.0
PRODID:-//ChamberMaster//Event Calendar 2.0//EN
METHOD:PUBLISH
X-PUBLISHED-TTL:P3D
REFRESH-INTERVAL:P3D
CALSCALE:GREGORIAN
BEGIN:VEVENT
DTSTART;VALUE=DATE:20220630
DTEND;VALUE=DATE:20220701
TRANSP:TRANSPARENT
X-MICROSOFT-CDO-ALLDAYEVENT:TRUE
SUMMARY:Deadline to Apply for AHFC's Youth Summer Camp & Activity Scholarship
DESCRIPTION:Youth Summer Camp & Activity Scholarship\n\n\n \n\n\nAbout The Scholarship\n\nThe Youth Summer Camp and Activity Scholarship makes it possible for young Alaskans to attend a summer camp\, take part in an activity\, or participate in a sport of their choosing. In 2022 AHFC celebrated 11 years of offering this scholarship\, with awards of up to $500.00 per youth.\n\nFrom swim lessons\, to computer camps\, to outdoor adventure trips\, there are opportunities for all interests and abilities.
X-ALT-DESC;FMTTYPE=text/html:<h1 style="box-sizing: border-box\; margin-top: 0.533333em\; margin-bottom: 0.5rem\; line-height: 1.06667em\; color: rgb(0\, 103\, 176)\; font-family: museo-n3\, museo\, Georgia\, serif\;">Youth Summer Camp &amp\; Activity Scholarship</h1>\n\n<div class="figure_wrap" style="box-sizing: border-box\; position: relative\; margin: 0px 0px 40px 50px\; float: right\; color: rgb(56\, 56\, 56)\; font-family: franklin-gothic-urw\, museo-sans-n3\, museo-sans\, sans-serif\; font-size: 15px\;">\n<figure style="box-sizing: border-box\; margin: 0px 0px 1rem\; background-color: rgb(255\, 255\, 255)\; border-radius: 14px\; box-shadow: rgb(110\, 110\, 110) 0px 2px 5px -2px\;">&nbsp\;</figure>\n</div>\n\n<h2 style="box-sizing: border-box\; margin: 1.75em 0px 0.375em\; font-weight: 700\; line-height: 1.5em\; font-size: 1.06667em\; font-family: museo-slab\, Georgia\, serif\; color: rgb(0\, 103\, 176)\;">About The Scholarship</h2>\n\n<p style="box-sizing: border-box\; margin: 0.8em 0px\; color: rgb(56\, 56\, 56)\; font-family: franklin-gothic-urw\, museo-sans-n3\, museo-sans\, sans-serif\; font-size: 15px\;">The&nbsp\;Youth Summer Camp and Activity Scholarship makes it possible for young Alaskans to attend a summer camp\, take part in an activity\, or participate in a sport&nbsp\;of their choosing. In 2022 AHFC celebrated 11 years of&nbsp\;offering this scholarship\, with awards of up to $500.00&nbsp\;per youth.</p>\n\n<p style="box-sizing: border-box\; margin: 0.8em 0px\; color: rgb(56\, 56\, 56)\; font-family: franklin-gothic-urw\, museo-sans-n3\, museo-sans\, sans-serif\; font-size: 15px\;">From swim lessons\, to computer camps\, to outdoor adventure trips\, there are opportunities for all interests and abilities.</p>\n
LOCATION:
UID:e.3185.16717
SEQUENCE:3
DTSTAMP:20260420T140714Z
URL:https://business.wasillachamber.org/events/details/deadline-to-apply-for-ahfc-s-youth-summer-camp-activity-scholarship-16717
END:VEVENT

END:VCALENDAR
