BEGIN:VCALENDAR
VERSION:2.0
PRODID:-//ChamberMaster//Event Calendar 2.0//EN
METHOD:PUBLISH
X-PUBLISHED-TTL:P3D
REFRESH-INTERVAL:P3D
CALSCALE:GREGORIAN
BEGIN:VEVENT
DTSTART:20231028T200000Z
DTEND:20231028T200000Z
X-MICROSOFT-CDO-ALLDAYEVENT:FALSE
SUMMARY:DEA National Drug Take Back Day
DESCRIPTION:Safely dispose of your unused or expired medications on Saturday October 28th for DEA National Drug TakeBack Day.\n\nBy turning in unused or expired medications you can reduce prescription drug abuse\, reduce accidental poisoning and protect our water and our environment.\n\n \n\nMedications including pet meds may be dropped off in original container or by emptying it directly into disposal box.\n\nLiquid products such as cough syrup should remain tightly sealed in original container.\n\nSyringes and medical waste cannot be accepted due to potential hazard posed by blood-borne pathogens.\n\n\n\nAny questions?\n\nCall 907-861-8557 or email mmiller@matsugov.us
X-ALT-DESC;FMTTYPE=text/html:<p>Safely dispose of your unused or expired medications on Saturday October 28th for DEA National Drug TakeBack Day.<br />\nBy turning in unused or expired medications you can reduce prescription drug abuse\, reduce accidental poisoning and protect our water and our environment.<br />\n&nbsp\;</p>\n\n<p>Medications including pet meds may be dropped off in original container or by emptying it directly into disposal box.<br />\nLiquid products such as cough syrup should remain tightly sealed in original container.<br />\nSyringes and medical waste cannot be accepted due to potential hazard posed by blood-borne pathogens.<br />\n<br />\nAny questions?<br />\nCall 907-861-8557 or email mmiller@matsugov.us</p>\n
LOCATION:Fred Meyer in Wasilla 1501 E Parks Hwy\, Wasilla\, AK 99654 Fred Meyer in Palmer 535 E Palmer-Wasilla Hwy\, Palmer\, AK 99645
UID:e.3185.21234
SEQUENCE:3
DTSTAMP:20260423T143928Z
URL:https://business.wasillachamber.org/events/details/dea-national-drug-take-back-day-21234
END:VEVENT

END:VCALENDAR
