BEGIN:VCALENDAR
VERSION:2.0
PRODID:-//ChamberMaster//Event Calendar 2.0//EN
METHOD:PUBLISH
X-PUBLISHED-TTL:P3D
REFRESH-INTERVAL:P3D
CALSCALE:GREGORIAN
BEGIN:VEVENT
DTSTART:20231028T160000Z
DTEND:20231028T200000Z
X-MICROSOFT-CDO-ALLDAYEVENT:FALSE
SUMMARY:Community Health Fair at Mid Valley Senior Center Houston
DESCRIPTION:Mid Valley Senior Center Houston Community Health Fair\n\n \n\nAppointments are strongly recommended.\n\nWalk ins will be worked into the open available slots.\n\nThe appointments can be booked online at\n\nwww.alaskahealthfair.org\n\nCall (907)278-0234 to reach us in the office.\n\nA health fair offers free health education by local health and safety\n\nproviders. Come join us and learn something new.
X-ALT-DESC;FMTTYPE=text/html:<p style="box-sizing: inherit\; margin-top: 0px\; margin-right: 0px\; margin-bottom: var(--tec-spacer-3)\; margin-left: 0px\; padding: 0px\; font-size: var(--tec-font-size-4)\; line-height: var(--tec-line-height-2)\; text-rendering: optimizelegibility\; color: rgb(20\, 24\, 39)\; font-family: &quot\;Helvetica Neue&quot\;\, Helvetica\, -apple-system\, BlinkMacSystemFont\, Roboto\, Arial\, sans-serif\; background-color: rgb(254\, 254\, 254)\;">Mid Valley Senior Center Houston Community Health Fair<br />\n&nbsp\;</p>\n\n<p style="box-sizing: inherit\; margin-top: 0px\; margin-right: 0px\; margin-bottom: var(--tec-spacer-3)\; margin-left: 0px\; padding: 0px\; font-size: var(--tec-font-size-4)\; line-height: var(--tec-line-height-2)\; text-rendering: optimizelegibility\; color: rgb(20\, 24\, 39)\; font-family: &quot\;Helvetica Neue&quot\;\, Helvetica\, -apple-system\, BlinkMacSystemFont\, Roboto\, Arial\, sans-serif\; background-color: rgb(254\, 254\, 254)\;">Appointments are strongly recommended.<br style="box-sizing: inherit\;" />\nWalk ins will be worked into the open available slots.<br style="box-sizing: inherit\;" />\nThe appointments can be booked online at<br style="box-sizing: inherit\;" />\nwww.alaskahealthfair.org<br style="box-sizing: inherit\;" />\nCall (907)278-0234 to reach us in the office.</p>\n\n<p style="box-sizing: inherit\; margin-top: 0px\; margin-right: 0px\; margin-bottom: var(--tec-spacer-6)\; margin-left: 0px\; padding: 0px\; font-size: var(--tec-font-size-4)\; line-height: var(--tec-line-height-2)\; text-rendering: optimizelegibility\; color: rgb(20\, 24\, 39)\; font-family: &quot\;Helvetica Neue&quot\;\, Helvetica\, -apple-system\, BlinkMacSystemFont\, Roboto\, Arial\, sans-serif\; background-color: rgb(254\, 254\, 254)\;">A health fair offers free health education by local health and safety<br style="box-sizing: inherit\;" />\nproviders. Come join us and learn something new.</p>\n
LOCATION:Mid Valley Senior Center Houston 11975 W. Mid Valley Way Houston\, AK 99623
UID:e.3185.21137
SEQUENCE:3
DTSTAMP:20260423T150121Z
URL:https://business.wasillachamber.org/events/details/community-health-fair-at-mid-valley-senior-center-houston-21137
END:VEVENT

END:VCALENDAR
