BEGIN:VCALENDAR
VERSION:2.0
PRODID:-//ChamberMaster//Event Calendar 2.0//EN
METHOD:PUBLISH
X-PUBLISHED-TTL:P3D
REFRESH-INTERVAL:P3D
CALSCALE:GREGORIAN
BEGIN:VEVENT
DTSTART:20280128T210000Z
DTEND:20280129T000000Z
X-MICROSOFT-CDO-ALLDAYEVENT:FALSE
SUMMARY:Coffee Canines and Camaraderie
DESCRIPTION:Calling all Veterans! Come enjoy a cup of coffee and fellowship as well as an opportunity to meet some of our pack (dogs in training). Feel free to bring all your questions about service dogs\, or just come hang out and enjoy conversation and pupper loves.
X-ALT-DESC;FMTTYPE=text/html:Calling all Veterans! Come enjoy a cup of coffee and fellowship as well as an opportunity to meet some of our pack (dogs in training). Feel free to bring all your questions about service dogs\, or just come hang out and enjoy conversation and pupper loves.
LOCATION:Band of Brothers AK 2050 N Merciful Cir\, Wasilla\, AK 99654
UID:e.3185.22547
SEQUENCE:3
DTSTAMP:20260424T110345Z
URL:https://business.wasillachamber.org/events/details/coffee-canines-and-comaraderie-01-28-2028-22547
END:VEVENT

END:VCALENDAR
