BEGIN:VCALENDAR
VERSION:2.0
PRODID:-//ChamberMaster//Event Calendar 2.0//EN
METHOD:PUBLISH
X-PUBLISHED-TTL:P3D
REFRESH-INTERVAL:P3D
CALSCALE:GREGORIAN
BEGIN:VEVENT
DTSTART:20231027T180000Z
DTEND:20231028T040000Z
X-MICROSOFT-CDO-ALLDAYEVENT:FALSE
SUMMARY:Cleaning for a Reason Haunted House & Trunk or Treat
DESCRIPTION:Help Cleaning's A Breeze raise money for Cleaning For A Reason! Cleaning's A Breeze is hosting a Trunk or Treat and Haunted house to help cancer patients.\n\nThe Haunted house is all day.\n\nTrunk or Treat starts at 6.\n\nWe are asking for donations that go directly to Cleaning For A Reason.
X-ALT-DESC;FMTTYPE=text/html:<span style="color: rgb(5\, 5\, 5)\; font-family: &quot\;Segoe UI Historic&quot\;\, &quot\;Segoe UI&quot\;\, Helvetica\, Arial\, sans-serif\; font-size: 15px\;">Help Cleaning&#39\;s A Breeze raise money for Cleaning For A Reason! Cleaning&#39\;s A Breeze is hosting a Trunk or Treat and Haunted house to help cancer patients.<br />\n<strong>The Haunted house is all day.<br />\nTrunk or Treat starts at 6.</strong><br />\n<em>We are asking for donations that go directly to Cleaning For A Reason.&nbsp\;</em></span>
LOCATION:Cleaning's A Breeze 5131 Gold Mint Dr. Wasilla\, AK 99654
UID:e.3185.21198
SEQUENCE:3
DTSTAMP:20260423T144215Z
URL:https://business.wasillachamber.org/events/details/cleaning-for-a-reason-haunted-house-trunk-or-treat-21198
END:VEVENT

END:VCALENDAR
