BEGIN:VCALENDAR
VERSION:2.0
PRODID:-//ChamberMaster//Event Calendar 2.0//EN
METHOD:PUBLISH
X-PUBLISHED-TTL:P3D
REFRESH-INTERVAL:P3D
CALSCALE:GREGORIAN
BEGIN:VEVENT
DTSTART:20231003T150000Z
DTEND:20231004T040000Z
X-MICROSOFT-CDO-ALLDAYEVENT:FALSE
SUMMARY:City of Wasilla Regular Election (POLLS OPEN 7AM - 8PM)
DESCRIPTION:The City will hold a "regular election" on Tuesday\, October 3. \n	City council seats C and D will be on the regular election ballot. Propositions appearing on the ballot must be adopted by July 28\, 2023.\n	The race for mayor will also be on the regular election ballot.\n	Note. If no candidate for mayor receives more than 40 percent of the votes cast in the regular election\, a "runoff election" will be held between the two candidates receiving the greatest number of votes. \n	 If held\, the mayoral runoff election will take place on Tuesday\, October 31. \n\n\nMore information about 2023 City of Wasilla Regular Elections here
X-ALT-DESC;FMTTYPE=text/html:<ul style="box-sizing: border-box\; margin-top: 8px\; margin-bottom: 18px\; padding-right: 0px\; color: rgb(73\, 76\, 84)\; font-family: &quot\;Source Sans Pro&quot\;\, sans-serif\; font-size: 16px\; letter-spacing: 0.32px\;">\n	<li style="box-sizing: border-box\; padding: 0px\;">The City will hold a &quot\;regular election&quot\; on&nbsp\;<span style="box-sizing: border-box\; font-weight: 700\;">Tuesday\, October 3</span>.&nbsp\;</li>\n	<li style="box-sizing: border-box\; padding: 0px\;">City council seats C and D will be on the regular election ballot. Propositions appearing on the ballot must be adopted by July 28\, 2023.</li>\n	<li style="box-sizing: border-box\; padding: 0px\;">The&nbsp\;race for mayor will also be on the regular election ballot.</li>\n	<li style="box-sizing: border-box\; padding: 0px\;"><span style="box-sizing: border-box\; font-weight: 700\;">Note</span>. If no candidate for mayor receives more than 40 percent of the votes cast in the regular election\, a &ldquo\;runoff election&rdquo\; will be held between the two candidates receiving the greatest number of votes.&nbsp\;</li>\n	<li style="box-sizing: border-box\; padding: 0px\;">&nbsp\;If held\, the mayoral runoff election will take place on Tuesday\, October 31.&nbsp\;</li>\n</ul>\n\n<div style="box-sizing: border-box\; padding: 0px\;">More information about 2023 City of Wasilla Regular Elections <a href="https://www.cityofwasilla.gov/services/departments/elections">here</a></div>\n
LOCATION:
UID:e.3185.20902
SEQUENCE:3
DTSTAMP:20260423T144303Z
URL:https://business.wasillachamber.org/events/details/city-of-wasilla-regular-election-polls-open-7am-8pm-20902
END:VEVENT

END:VCALENDAR
