BEGIN:VCALENDAR
VERSION:2.0
PRODID:-//ChamberMaster//Event Calendar 2.0//EN
METHOD:PUBLISH
X-PUBLISHED-TTL:P3D
REFRESH-INTERVAL:P3D
CALSCALE:GREGORIAN
BEGIN:VEVENT
DTSTART:20231021T200000Z
DTEND:20231021T230000Z
X-MICROSOFT-CDO-ALLDAYEVENT:FALSE
SUMMARY:Calaveritas at Wasilla Museum
DESCRIPTION:All are welcome to join at the Wasilla Museum to make sugar skulls and other traditional arts of Dia de los Muertos\n\n*while supplies last
X-ALT-DESC;FMTTYPE=text/html:All are welcome to join at the Wasilla Museum to make sugar skulls and other traditional arts of Dia de los Muertos<br />\n*while supplies last
LOCATION:Wasilla Museum 391 N. Main St Wasilla\, AK 9654
UID:e.3185.21244
SEQUENCE:3
DTSTAMP:20260423T143935Z
URL:https://business.wasillachamber.org/events/details/calaveritas-at-wasilla-museum-21244
END:VEVENT

END:VCALENDAR
