BEGIN:VCALENDAR
VERSION:2.0
PRODID:-//ChamberMaster//Event Calendar 2.0//EN
METHOD:PUBLISH
X-PUBLISHED-TTL:P3D
REFRESH-INTERVAL:P3D
CALSCALE:GREGORIAN
BEGIN:VEVENT
DTSTART:20230122T020000Z
DTEND:20230122T050000Z
X-MICROSOFT-CDO-ALLDAYEVENT:FALSE
SUMMARY:Boomer's Rock Dinner Dance at WASI
DESCRIPTION:Seniors are hosting a Boomer's Rock Dinner Dance here at WASI Jan 21st from 5 to 8pm. Featuring music from the 60s and 70s. There will be a Potato Bar\, Games\, Door Prizes and more! No RSVP needed just show up!
X-ALT-DESC;FMTTYPE=text/html:<span style="color: rgb(5\, 5\, 5)\; font-family: &quot\;Segoe UI Historic&quot\;\, &quot\;Segoe UI&quot\;\, Helvetica\, Arial\, sans-serif\; font-size: 15px\;">Seniors are hosting a Boomer&#39\;s Rock Dinner Dance here at WASI Jan 21st from 5 to 8pm. Featuring music from the 60s and 70s. There will be a Potato Bar\, Games\, Door Prizes and more! No RSVP needed just show up!&nbsp\;</span>
LOCATION:Wasilla Area Seniors 1301 S. Century Cir Wasilla\, AK 99654
UID:e.3185.18775
SEQUENCE:3
DTSTAMP:20260420T185704Z
URL:https://business.wasillachamber.org/events/details/boomer-s-rock-dinner-dance-at-wasi-18775
END:VEVENT

END:VCALENDAR
