BEGIN:VCALENDAR
VERSION:2.0
PRODID:-//ChamberMaster//Event Calendar 2.0//EN
METHOD:PUBLISH
X-PUBLISHED-TTL:P3D
REFRESH-INTERVAL:P3D
CALSCALE:GREGORIAN
BEGIN:VEVENT
DTSTART:20231025T200000Z
DTEND:20231130T020000Z
X-MICROSOFT-CDO-ALLDAYEVENT:FALSE
SUMMARY:Board Elections\, Apply Today!
DESCRIPTION:Apply today to join the Wasilla Chamber of Commerce board of directors!
X-ALT-DESC;FMTTYPE=text/html:Apply today to join the Wasilla Chamber of Commerce board of directors!
LOCATION:https://form.jotform.com/232425781024148
UID:e.3185.21324
SEQUENCE:3
DTSTAMP:20260423T143639Z
URL:https://business.wasillachamber.org/events/details/board-elections-apply-today-21324
END:VEVENT

END:VCALENDAR
