BEGIN:VCALENDAR
VERSION:2.0
PRODID:-//ChamberMaster//Event Calendar 2.0//EN
METHOD:PUBLISH
X-PUBLISHED-TTL:P3D
REFRESH-INTERVAL:P3D
CALSCALE:GREGORIAN
BEGIN:VEVENT
DTSTART:20230114T210000Z
DTEND:20230115T020000Z
X-MICROSOFT-CDO-ALLDAYEVENT:FALSE
SUMMARY:Betty White Adoption Event at Mat-Su Animal Shelter
DESCRIPTION:Join Mat-Su Animal Shelter on Saturday\, January 14th\, for their annual Betty White Adopt-A-Thon!\n\n\n\nAdoption fees are WAIVED with a donation of dry cat\, or dog\, food for our Kibbles for Kritters Community Food Bank program.\n\n\n\nAdoptions are from 12 p.m. to 5 p.m.\, no appointment necessary.\n\n\n\nSee you there!
X-ALT-DESC;FMTTYPE=text/html:<span style="color: rgb(5\, 5\, 5)\; font-family: &quot\;Segoe UI Historic&quot\;\, &quot\;Segoe UI&quot\;\, Helvetica\, Arial\, sans-serif\; font-size: 15px\;">Join Mat-Su Animal Shelter on Saturday\, January 14th\, for their annual Betty White Adopt-A-Thon!</span><br style="color: rgb(5\, 5\, 5)\; font-family: &quot\;Segoe UI Historic&quot\;\, &quot\;Segoe UI&quot\;\, Helvetica\, Arial\, sans-serif\; font-size: 15px\;" />\n<br style="color: rgb(5\, 5\, 5)\; font-family: &quot\;Segoe UI Historic&quot\;\, &quot\;Segoe UI&quot\;\, Helvetica\, Arial\, sans-serif\; font-size: 15px\;" />\n<span style="color: rgb(5\, 5\, 5)\; font-family: &quot\;Segoe UI Historic&quot\;\, &quot\;Segoe UI&quot\;\, Helvetica\, Arial\, sans-serif\; font-size: 15px\;">Adoption fees are WAIVED with a donation of dry cat\, or dog\, food for our Kibbles for Kritters Community Food Bank program.</span><br style="color: rgb(5\, 5\, 5)\; font-family: &quot\;Segoe UI Historic&quot\;\, &quot\;Segoe UI&quot\;\, Helvetica\, Arial\, sans-serif\; font-size: 15px\;" />\n<br style="color: rgb(5\, 5\, 5)\; font-family: &quot\;Segoe UI Historic&quot\;\, &quot\;Segoe UI&quot\;\, Helvetica\, Arial\, sans-serif\; font-size: 15px\;" />\n<span style="color: rgb(5\, 5\, 5)\; font-family: &quot\;Segoe UI Historic&quot\;\, &quot\;Segoe UI&quot\;\, Helvetica\, Arial\, sans-serif\; font-size: 15px\;">Adoptions are from 12 p.m. to 5 p.m.\, no appointment necessary.</span><br style="color: rgb(5\, 5\, 5)\; font-family: &quot\;Segoe UI Historic&quot\;\, &quot\;Segoe UI&quot\;\, Helvetica\, Arial\, sans-serif\; font-size: 15px\;" />\n<br style="color: rgb(5\, 5\, 5)\; font-family: &quot\;Segoe UI Historic&quot\;\, &quot\;Segoe UI&quot\;\, Helvetica\, Arial\, sans-serif\; font-size: 15px\;" />\n<span style="color: rgb(5\, 5\, 5)\; font-family: &quot\;Segoe UI Historic&quot\;\, &quot\;Segoe UI&quot\;\, Helvetica\, Arial\, sans-serif\; font-size: 15px\;">See you there!&nbsp\;</span>
LOCATION:Mat-Su Animal Shelter 9470 E. Chanlyut Cir Palmer\, AK 99645
UID:e.3185.18562
SEQUENCE:3
DTSTAMP:20260420T190113Z
URL:https://business.wasillachamber.org/events/details/betty-white-adoption-event-at-mat-su-animal-shelter-18562
END:VEVENT

END:VCALENDAR
