BEGIN:VCALENDAR
VERSION:2.0
PRODID:-//ChamberMaster//Event Calendar 2.0//EN
METHOD:PUBLISH
X-PUBLISHED-TTL:P3D
REFRESH-INTERVAL:P3D
CALSCALE:GREGORIAN
BEGIN:VEVENT
DTSTART:20231013T013000Z
DTEND:20231013T050000Z
X-MICROSOFT-CDO-ALLDAYEVENT:FALSE
SUMMARY:Best of the Valley Awards
DESCRIPTION:The Best of the Valley Awards celebrates the best businesses\, organizations\, and people.\n\n \n\nWe hope you are as excited about this year's Best of the Valley as we are! We can't wait to see all our local businesses celebrating the Best of the Valley Toast of the Town Awards.\n\n \n\nAwards Banquet and dinner will be held at Evangelo's Restaurant.\n\n \n\nGeneral Admission Ticket includes entry\, dinner and dessert. Alcoholic drinks are available to purchase at the cash bar.
X-ALT-DESC;FMTTYPE=text/html:<p class="p1" style="--timely-white: #fff\; --timely-black: #000\; --timely-primary-color: #333\; --timely-primary-accent-color: #d8d8d8\; --timely-secondary-color: #506688\; --timely-secondary-accent-color: #f0f4fa\; --timely-tertiary-color: #f9f9f9\; --timely-tertiary-accent-color: rgba(252\,185\,0\,0.30196078431372547)\; --timely-shadow-color: rgba(0\,0\,0\,0.13333333333333333)\; --timely-disabled-color: #b1b1b1\; --timely-cta-color: #82c144\; --timely-button-color: #223e49\; --timely-error-color: #9f2222\; --timely-warning-color: #ffa000\; --timely-sky-blue: #148099\; --timely-event-tbc: #e83294\; --timely-event-tentative: #275adc\; --timely-event-featured: #5a6473\; --timely-event-new: #11b5fb\; --timely-event-updated: #6e33a9\; --timely-bold-green: #558228\; --timely-font: 'Oxygen'\; color: rgb(43\, 43\, 43)\; font-variant-numeric: normal\; font-variant-east-asian: normal\; font-variant-alternates: normal\; font-kerning: auto\; font-optical-sizing: auto\; font-feature-settings: normal\; font-variation-settings: normal\; font-stretch: normal\; line-height: normal\; font-family: &quot\;Helvetica Neue&quot\;\; margin: 0px\;"><span style="--timely-white: #fff\; --timely-black: #000\; --timely-primary-color: #333\; --timely-primary-accent-color: #d8d8d8\; --timely-secondary-color: #506688\; --timely-secondary-accent-color: #f0f4fa\; --timely-tertiary-color: #f9f9f9\; --timely-tertiary-accent-color: rgba(252\,185\,0\,0.30196078431372547)\; --timely-shadow-color: rgba(0\,0\,0\,0.13333333333333333)\; --timely-disabled-color: #b1b1b1\; --timely-cta-color: #82c144\; --timely-button-color: #223e49\; --timely-error-color: #9f2222\; --timely-warning-color: #ffa000\; --timely-sky-blue: #148099\; --timely-event-tbc: #e83294\; --timely-event-tentative: #275adc\; --timely-event-featured: #5a6473\; --timely-event-new: #11b5fb\; --timely-event-updated: #6e33a9\; --timely-bold-green: #558228\; --timely-font: 'Oxygen'\; font-size: 12pt\;">The Best of the Valley Awards celebrates the best businesses\, organizations\, and people.</span></p>\n\n<p class="p2" style="--timely-white: #fff\; --timely-black: #000\; --timely-primary-color: #333\; --timely-primary-accent-color: #d8d8d8\; --timely-secondary-color: #506688\; --timely-secondary-accent-color: #f0f4fa\; --timely-tertiary-color: #f9f9f9\; --timely-tertiary-accent-color: rgba(252\,185\,0\,0.30196078431372547)\; --timely-shadow-color: rgba(0\,0\,0\,0.13333333333333333)\; --timely-disabled-color: #b1b1b1\; --timely-cta-color: #82c144\; --timely-button-color: #223e49\; --timely-error-color: #9f2222\; --timely-warning-color: #ffa000\; --timely-sky-blue: #148099\; --timely-event-tbc: #e83294\; --timely-event-tentative: #275adc\; --timely-event-featured: #5a6473\; --timely-event-new: #11b5fb\; --timely-event-updated: #6e33a9\; --timely-bold-green: #558228\; --timely-font: 'Oxygen'\; color: rgb(43\, 43\, 43)\; font-variant-numeric: normal\; font-variant-east-asian: normal\; font-variant-alternates: normal\; font-kerning: auto\; font-optical-sizing: auto\; font-feature-settings: normal\; font-variation-settings: normal\; font-stretch: normal\; line-height: normal\; font-family: &quot\;Helvetica Neue&quot\;\; margin: 0px\; min-height: 15px\;">&nbsp\;</p>\n\n<p class="p1" style="--timely-white: #fff\; --timely-black: #000\; --timely-primary-color: #333\; --timely-primary-accent-color: #d8d8d8\; --timely-secondary-color: #506688\; --timely-secondary-accent-color: #f0f4fa\; --timely-tertiary-color: #f9f9f9\; --timely-tertiary-accent-color: rgba(252\,185\,0\,0.30196078431372547)\; --timely-shadow-color: rgba(0\,0\,0\,0.13333333333333333)\; --timely-disabled-color: #b1b1b1\; --timely-cta-color: #82c144\; --timely-button-color: #223e49\; --timely-error-color: #9f2222\; --timely-warning-color: #ffa000\; --timely-sky-blue: #148099\; --timely-event-tbc: #e83294\; --timely-event-tentative: #275adc\; --timely-event-featured: #5a6473\; --timely-event-new: #11b5fb\; --timely-event-updated: #6e33a9\; --timely-bold-green: #558228\; --timely-font: 'Oxygen'\; color: rgb(43\, 43\, 43)\; font-variant-numeric: normal\; font-variant-east-asian: normal\; font-variant-alternates: normal\; font-kerning: auto\; font-optical-sizing: auto\; font-feature-settings: normal\; font-variation-settings: normal\; font-stretch: normal\; line-height: normal\; font-family: &quot\;Helvetica Neue&quot\;\; margin: 0px\;"><span style="--timely-white: #fff\; --timely-black: #000\; --timely-primary-color: #333\; --timely-primary-accent-color: #d8d8d8\; --timely-secondary-color: #506688\; --timely-secondary-accent-color: #f0f4fa\; --timely-tertiary-color: #f9f9f9\; --timely-tertiary-accent-color: rgba(252\,185\,0\,0.30196078431372547)\; --timely-shadow-color: rgba(0\,0\,0\,0.13333333333333333)\; --timely-disabled-color: #b1b1b1\; --timely-cta-color: #82c144\; --timely-button-color: #223e49\; --timely-error-color: #9f2222\; --timely-warning-color: #ffa000\; --timely-sky-blue: #148099\; --timely-event-tbc: #e83294\; --timely-event-tentative: #275adc\; --timely-event-featured: #5a6473\; --timely-event-new: #11b5fb\; --timely-event-updated: #6e33a9\; --timely-bold-green: #558228\; --timely-font: 'Oxygen'\; font-size: 12pt\;">We hope you are as excited about this year&#39\;s Best of the Valley as we are! We can&#39\;t wait to see all our local businesses celebrating the Best of the Valley Toast of the Town Awards.</span></p>\n\n<p class="p1" style="--timely-white: #fff\; --timely-black: #000\; --timely-primary-color: #333\; --timely-primary-accent-color: #d8d8d8\; --timely-secondary-color: #506688\; --timely-secondary-accent-color: #f0f4fa\; --timely-tertiary-color: #f9f9f9\; --timely-tertiary-accent-color: rgba(252\,185\,0\,0.30196078431372547)\; --timely-shadow-color: rgba(0\,0\,0\,0.13333333333333333)\; --timely-disabled-color: #b1b1b1\; --timely-cta-color: #82c144\; --timely-button-color: #223e49\; --timely-error-color: #9f2222\; --timely-warning-color: #ffa000\; --timely-sky-blue: #148099\; --timely-event-tbc: #e83294\; --timely-event-tentative: #275adc\; --timely-event-featured: #5a6473\; --timely-event-new: #11b5fb\; --timely-event-updated: #6e33a9\; --timely-bold-green: #558228\; --timely-font: 'Oxygen'\; color: rgb(43\, 43\, 43)\; font-variant-numeric: normal\; font-variant-east-asian: normal\; font-variant-alternates: normal\; font-kerning: auto\; font-optical-sizing: auto\; font-feature-settings: normal\; font-variation-settings: normal\; font-stretch: normal\; line-height: normal\; font-family: &quot\;Helvetica Neue&quot\;\; margin: 0px\;">&nbsp\;</p>\n\n<p class="p1" style="--timely-white: #fff\; --timely-black: #000\; --timely-primary-color: #333\; --timely-primary-accent-color: #d8d8d8\; --timely-secondary-color: #506688\; --timely-secondary-accent-color: #f0f4fa\; --timely-tertiary-color: #f9f9f9\; --timely-tertiary-accent-color: rgba(252\,185\,0\,0.30196078431372547)\; --timely-shadow-color: rgba(0\,0\,0\,0.13333333333333333)\; --timely-disabled-color: #b1b1b1\; --timely-cta-color: #82c144\; --timely-button-color: #223e49\; --timely-error-color: #9f2222\; --timely-warning-color: #ffa000\; --timely-sky-blue: #148099\; --timely-event-tbc: #e83294\; --timely-event-tentative: #275adc\; --timely-event-featured: #5a6473\; --timely-event-new: #11b5fb\; --timely-event-updated: #6e33a9\; --timely-bold-green: #558228\; --timely-font: 'Oxygen'\; color: rgb(43\, 43\, 43)\; font-variant-numeric: normal\; font-variant-east-asian: normal\; font-variant-alternates: normal\; font-kerning: auto\; font-optical-sizing: auto\; font-feature-settings: normal\; font-variation-settings: normal\; font-stretch: normal\; line-height: normal\; font-family: &quot\;Helvetica Neue&quot\;\; margin: 0px\;"><span style="--timely-white: #fff\; --timely-black: #000\; --timely-primary-color: #333\; --timely-primary-accent-color: #d8d8d8\; --timely-secondary-color: #506688\; --timely-secondary-accent-color: #f0f4fa\; --timely-tertiary-color: #f9f9f9\; --timely-tertiary-accent-color: rgba(252\,185\,0\,0.30196078431372547)\; --timely-shadow-color: rgba(0\,0\,0\,0.13333333333333333)\; --timely-disabled-color: #b1b1b1\; --timely-cta-color: #82c144\; --timely-button-color: #223e49\; --timely-error-color: #9f2222\; --timely-warning-color: #ffa000\; --timely-sky-blue: #148099\; --timely-event-tbc: #e83294\; --timely-event-tentative: #275adc\; --timely-event-featured: #5a6473\; --timely-event-new: #11b5fb\; --timely-event-updated: #6e33a9\; --timely-bold-green: #558228\; --timely-font: 'Oxygen'\; font-size: 12pt\;">Awards Banquet and dinner will be held at&nbsp\;<strong style="--timely-white: #fff\; --timely-black: #000\; --timely-primary-color: #333\; --timely-primary-accent-color: #d8d8d8\; --timely-secondary-color: #506688\; --timely-secondary-accent-color: #f0f4fa\; --timely-tertiary-color: #f9f9f9\; --timely-tertiary-accent-color: rgba(252\,185\,0\,0.30196078431372547)\; --timely-shadow-color: rgba(0\,0\,0\,0.13333333333333333)\; --timely-disabled-color: #b1b1b1\; --timely-cta-color: #82c144\; --timely-button-color: #223e49\; --timely-error-color: #9f2222\; --timely-warning-color: #ffa000\; --timely-sky-blue: #148099\; --timely-event-tbc: #e83294\; --timely-event-tentative: #275adc\; --timely-event-featured: #5a6473\; --timely-event-new: #11b5fb\; --timely-event-updated: #6e33a9\; --timely-bold-green: #558228\; --timely-font: &quot\;Oxygen&quot\;\;">Evangelo&#39\;s Restaurant.</strong></span></p>\n\n<p class="p1" style="--timely-white: #fff\; --timely-black: #000\; --timely-primary-color: #333\; --timely-primary-accent-color: #d8d8d8\; --timely-secondary-color: #506688\; --timely-secondary-accent-color: #f0f4fa\; --timely-tertiary-color: #f9f9f9\; --timely-tertiary-accent-color: rgba(252\,185\,0\,0.30196078431372547)\; --timely-shadow-color: rgba(0\,0\,0\,0.13333333333333333)\; --timely-disabled-color: #b1b1b1\; --timely-cta-color: #82c144\; --timely-button-color: #223e49\; --timely-error-color: #9f2222\; --timely-warning-color: #ffa000\; --timely-sky-blue: #148099\; --timely-event-tbc: #e83294\; --timely-event-tentative: #275adc\; --timely-event-featured: #5a6473\; --timely-event-new: #11b5fb\; --timely-event-updated: #6e33a9\; --timely-bold-green: #558228\; --timely-font: 'Oxygen'\; color: rgb(43\, 43\, 43)\; font-variant-numeric: normal\; font-variant-east-asian: normal\; font-variant-alternates: normal\; font-kerning: auto\; font-optical-sizing: auto\; font-feature-settings: normal\; font-variation-settings: normal\; font-stretch: normal\; line-height: normal\; font-family: &quot\;Helvetica Neue&quot\;\; margin: 0px\;">&nbsp\;</p>\n\n<p class="p1" style="--timely-white: #fff\; --timely-black: #000\; --timely-primary-color: #333\; --timely-primary-accent-color: #d8d8d8\; --timely-secondary-color: #506688\; --timely-secondary-accent-color: #f0f4fa\; --timely-tertiary-color: #f9f9f9\; --timely-tertiary-accent-color: rgba(252\,185\,0\,0.30196078431372547)\; --timely-shadow-color: rgba(0\,0\,0\,0.13333333333333333)\; --timely-disabled-color: #b1b1b1\; --timely-cta-color: #82c144\; --timely-button-color: #223e49\; --timely-error-color: #9f2222\; --timely-warning-color: #ffa000\; --timely-sky-blue: #148099\; --timely-event-tbc: #e83294\; --timely-event-tentative: #275adc\; --timely-event-featured: #5a6473\; --timely-event-new: #11b5fb\; --timely-event-updated: #6e33a9\; --timely-bold-green: #558228\; --timely-font: 'Oxygen'\; color: rgb(43\, 43\, 43)\; font-variant-numeric: normal\; font-variant-east-asian: normal\; font-variant-alternates: normal\; font-kerning: auto\; font-optical-sizing: auto\; font-feature-settings: normal\; font-variation-settings: normal\; font-stretch: normal\; line-height: normal\; font-family: &quot\;Helvetica Neue&quot\;\; margin: 0px\;"><span style="--timely-white: #fff\; --timely-black: #000\; --timely-primary-color: #333\; --timely-primary-accent-color: #d8d8d8\; --timely-secondary-color: #506688\; --timely-secondary-accent-color: #f0f4fa\; --timely-tertiary-color: #f9f9f9\; --timely-tertiary-accent-color: rgba(252\,185\,0\,0.30196078431372547)\; --timely-shadow-color: rgba(0\,0\,0\,0.13333333333333333)\; --timely-disabled-color: #b1b1b1\; --timely-cta-color: #82c144\; --timely-button-color: #223e49\; --timely-error-color: #9f2222\; --timely-warning-color: #ffa000\; --timely-sky-blue: #148099\; --timely-event-tbc: #e83294\; --timely-event-tentative: #275adc\; --timely-event-featured: #5a6473\; --timely-event-new: #11b5fb\; --timely-event-updated: #6e33a9\; --timely-bold-green: #558228\; --timely-font: 'Oxygen'\; font-size: 12pt\;"><span style="--timely-white: #fff\; --timely-black: #000\; --timely-primary-color: #333\; --timely-primary-accent-color: #d8d8d8\; --timely-secondary-color: #506688\; --timely-secondary-accent-color: #f0f4fa\; --timely-tertiary-color: #f9f9f9\; --timely-tertiary-accent-color: rgba(252\,185\,0\,0.30196078431372547)\; --timely-shadow-color: rgba(0\,0\,0\,0.13333333333333333)\; --timely-disabled-color: #b1b1b1\; --timely-cta-color: #82c144\; --timely-button-color: #223e49\; --timely-error-color: #9f2222\; --timely-warning-color: #ffa000\; --timely-sky-blue: #148099\; --timely-event-tbc: #e83294\; --timely-event-tentative: #275adc\; --timely-event-featured: #5a6473\; --timely-event-new: #11b5fb\; --timely-event-updated: #6e33a9\; --timely-bold-green: #558228\; --timely-font: &quot\;Oxygen&quot\;\; color: rgb(5\, 5\, 5)\; font-family: system-ui\, -apple-system\, &quot\;system-ui&quot\;\, &quot\;.SFNSText-Regular&quot\;\, sans-serif\; font-size: 15px\; text-align: center\;">General Admission Ticket includes entry\, dinner and dessert. Alcoholic drinks are available to purchase at the cash bar.&nbsp\;</span></span></p>\n
LOCATION:Evangelo's Restaurant 2530 E. Parks Hwy Wasilla\, AK 99654
UID:e.3185.21140
SEQUENCE:3
DTSTAMP:20260423T144105Z
URL:https://business.wasillachamber.org/events/details/best-of-the-valley-awards-21140
END:VEVENT

END:VCALENDAR
