BEGIN:VCALENDAR
VERSION:2.0
PRODID:-//ChamberMaster//Event Calendar 2.0//EN
METHOD:PUBLISH
X-PUBLISHED-TTL:P3D
REFRESH-INTERVAL:P3D
CALSCALE:GREGORIAN
BEGIN:VEVENT
DTSTART:20231021T210000Z
DTEND:20231021T230000Z
X-MICROSOFT-CDO-ALLDAYEVENT:FALSE
SUMMARY:Autumn StoryWalk: Tricks & Treats at Wasilla Public Library
DESCRIPTION:Autumn StoryWalk: Tricks & Treats\n\nFall has arrived and we are reveling in the crisp\, colorful weather!  Join Wasilla Public Library outside the library on the StoryWalk on Saturday\, October 21 from 1-3pm.\n\nAs you walk the path and read the story several stations will be set up to share jokes\, riddles\, and some fall-time treats (stickers\, pencils\, play dough\, etc.).  Special thanks to the Friends of Wasilla Library and the Mat-Su Imagination Library for partnering with us to present this event.  All ages are welcome.
X-ALT-DESC;FMTTYPE=text/html:<strong>Autumn StoryWalk: Tricks &amp\; Treats</strong><br />\nFall has arrived and we are reveling in the crisp\, colorful weather!&nbsp\; Join Wasilla Public Library outside the library on the StoryWalk on Saturday\, October 21 from 1-3pm.<br />\nAs you walk the path and read the story several stations will be set up to share jokes\, riddles\, and some fall-time treats (stickers\, pencils\, play dough\, etc.).&nbsp\; Special thanks to the Friends of Wasilla Library and the Mat-Su Imagination Library for partnering with us to present this event.&nbsp\; All ages are welcome.
LOCATION:Wasilla Public Library 500 N. Crusey St. Wasilla\, AK 99654
UID:e.3185.21229
SEQUENCE:3
DTSTAMP:20260423T144350Z
URL:https://business.wasillachamber.org/events/details/autumn-storywalk-tricks-treats-at-wasilla-public-library-21229
END:VEVENT

END:VCALENDAR
