BEGIN:VCALENDAR
VERSION:2.0
PRODID:-//ChamberMaster//Event Calendar 2.0//EN
METHOD:PUBLISH
X-PUBLISHED-TTL:P3D
REFRESH-INTERVAL:P3D
CALSCALE:GREGORIAN
BEGIN:VEVENT
DTSTART:20231025T000000Z
DTEND:20231025T010000Z
X-MICROSOFT-CDO-ALLDAYEVENT:FALSE
SUMMARY:Art Adventures at Wasilla Public Library
DESCRIPTION:Art Adventures\n\nArt Adventures combines elements of literature\, art\, history\, and science for ages 6-12\, meeting on the fourth Tuesday of each month. Our next meeting will take place Tuesday\, October 24 at 4pm.  Generally we read a book together\, then move into creative time with art and science projects.  Autumn always puts me in mind of New England and the events leading up to the American Revolution\, so I think that will be our focus in October!
X-ALT-DESC;FMTTYPE=text/html:<strong>Art Adventures</strong><br />\nArt Adventures combines elements of literature\, art\, history\, and science for ages 6-12\, meeting on the fourth Tuesday of each month. Our next meeting will take place&nbsp\;<strong>Tuesday\, October 24 at 4pm</strong>.&nbsp\; Generally we read a book together\, then move into creative time with art and science projects.&nbsp\; Autumn always puts me in mind of New England and the events leading up to the American Revolution\, so I think that will be our focus in October!
LOCATION:Wasilla Public Library 500 N. Crusey St. Wasilla\, AK 99654
UID:e.3185.21230
SEQUENCE:3
DTSTAMP:20260423T143938Z
URL:https://business.wasillachamber.org/events/details/art-adventures-at-wasilla-public-library-21230
END:VEVENT

END:VCALENDAR
