BEGIN:VCALENDAR
VERSION:2.0
PRODID:-//ChamberMaster//Event Calendar 2.0//EN
METHOD:PUBLISH
X-PUBLISHED-TTL:P3D
REFRESH-INTERVAL:P3D
CALSCALE:GREGORIAN
BEGIN:VEVENT
DTSTART:20240814T233000Z
DTEND:20240815T021500Z
X-MICROSOFT-CDO-ALLDAYEVENT:FALSE
SUMMARY:Anchorage Public Open House-West Susitna Road Project
DESCRIPTION:Come and join a discussion about the West Susitna Access Road Project.
X-ALT-DESC;FMTTYPE=text/html:Come and join a discussion about the West Susitna Access Road Project.
LOCATION:Loussac Library-Atrium B 3600 Denali St. Anchorage\, AK 99503
UID:e.3185.22705
SEQUENCE:3
DTSTAMP:20260425T140959Z
URL:https://business.wasillachamber.org/events/details/anchorage-public-open-house-west-susitna-road-project-22705
END:VEVENT

END:VCALENDAR
