BEGIN:VCALENDAR
VERSION:2.0
PRODID:-//ChamberMaster//Event Calendar 2.0//EN
METHOD:PUBLISH
X-PUBLISHED-TTL:P3D
REFRESH-INTERVAL:P3D
CALSCALE:GREGORIAN
BEGIN:VEVENT
DTSTART:20230927T180000Z
DTEND:20230928T000000Z
X-MICROSOFT-CDO-ALLDAYEVENT:FALSE
SUMMARY:Anchorage Career Development Day with CU1
DESCRIPTION:Join Credit Union 1 for Career Development Day at The Nave Spenard.\n\nThere are a few basic necessities we all need in order to work toward our financial goals. Two of which are a strong community and a steady income. We're joining together with community partners to offer a Career Development Day in Anchorage. If you're embarking on a career search or considering a career change\, and need a little support\, this event is for you.\n\nOur Anchorage Career Development Day will feature:\n\n- Career search resources\n\n- Resume services\n\n- Interview prep\n\n- Headshots from Photo Emporium\n\n- Access to complimentary work-friendly clothing\, donated by members of the community\n\nWe will update event details as additional services are added. We want to ensure event attendees have access to all the resources necessary to secure a career path toward all of your financial goals.\n\nThis event is open to the public. and we hope you'll join us!
X-ALT-DESC;FMTTYPE=text/html:<div class="xdj266r x11i5rnm xat24cr x1mh8g0r x1vvkbs" style="margin: 0px\; overflow-wrap: break-word\; font-family: &quot\;Segoe UI Historic&quot\;\, &quot\;Segoe UI&quot\;\, Helvetica\, Arial\, sans-serif\; color: rgb(5\, 5\, 5)\; font-size: 15px\;">Join Credit Union 1 for Career Development Day at The Nave Spenard.<br />\nThere are a few basic necessities we all need in order to work toward our financial goals. Two of which are a strong community and a steady income. We&#39\;re joining together with community partners to offer a Career Development Day in Anchorage. If you&#39\;re embarking on a career search or considering a career change\, and need a little support\, this event is for you.</div>\n\n<div class="x11i5rnm xat24cr x1mh8g0r x1vvkbs xtlvy1s" style="margin: 0.5em 0px 0px\; overflow-wrap: break-word\; font-family: &quot\;Segoe UI Historic&quot\;\, &quot\;Segoe UI&quot\;\, Helvetica\, Arial\, sans-serif\; color: rgb(5\, 5\, 5)\; font-size: 15px\;">Our Anchorage Career Development Day will feature:<br />\n- Career search resources<br />\n- Resume services<br />\n- Interview prep<br />\n- Headshots from Photo Emporium<br />\n- Access to complimentary work-friendly clothing\, donated by members of the community</div>\n\n<div class="x11i5rnm xat24cr x1mh8g0r x1vvkbs xtlvy1s" style="margin: 0.5em 0px 0px\; overflow-wrap: break-word\; font-family: &quot\;Segoe UI Historic&quot\;\, &quot\;Segoe UI&quot\;\, Helvetica\, Arial\, sans-serif\; color: rgb(5\, 5\, 5)\; font-size: 15px\;">We will update event details as additional services are added. We want to ensure event attendees have access to all the resources necessary to secure a career path toward all of your financial goals.</div>\n\n<div class="x11i5rnm xat24cr x1mh8g0r x1vvkbs xtlvy1s" style="margin: 0.5em 0px 0px\; overflow-wrap: break-word\; font-family: &quot\;Segoe UI Historic&quot\;\, &quot\;Segoe UI&quot\;\, Helvetica\, Arial\, sans-serif\; color: rgb(5\, 5\, 5)\; font-size: 15px\;">This event is open to the public. and we hope you&#39\;ll join us!</div>\n
LOCATION:The Nave Spenard 3502 Spenard Rd. Anchorage\, AK
UID:e.3185.21081
SEQUENCE:3
DTSTAMP:20260423T143712Z
URL:https://business.wasillachamber.org/events/details/anchorage-career-development-day-with-cu1-21081
END:VEVENT

END:VCALENDAR
