BEGIN:VCALENDAR
VERSION:2.0
PRODID:-//ChamberMaster//Event Calendar 2.0//EN
METHOD:PUBLISH
X-PUBLISHED-TTL:P3D
REFRESH-INTERVAL:P3D
CALSCALE:GREGORIAN
BEGIN:VEVENT
DTSTART:20231004T013000Z
DTEND:20231004T033000Z
X-MICROSOFT-CDO-ALLDAYEVENT:FALSE
SUMMARY:An Evening with Author Heather Lende at Wasilla Public Library
DESCRIPTION:Meet the Author! Join us for an evening with Alaska State Writer Laureate Heather Lende on Tuesday\, October 3. Heather Lende will also be appearing in Talkeetna on Wednesday\, October 4.\n\n\n\nSpecial thanks to our event sponsors:\n\nMat-Su Health Foundation\, Friends of Wasilla Library\, 49 Writers\, Talkeetna Public Library\, Friends of Talkeetna Library\, Denali Arts Council\, Alaska Quarterly Review\, Alaska Center for the Book\, and Fireside Books. Presented in cooperation with the Alaska State Council on the Arts and the Alaska Humanities Forum.
X-ALT-DESC;FMTTYPE=text/html:<span style="color: rgb(5\, 5\, 5)\; font-family: &quot\;Segoe UI Historic&quot\;\, &quot\;Segoe UI&quot\;\, Helvetica\, Arial\, sans-serif\; font-size: 15px\;">Meet the Author! Join us for an evening with Alaska State Writer Laureate Heather Lende on Tuesday\, October 3. Heather Lende will also be appearing in Talkeetna on Wednesday\, October 4.</span><br style="color: rgb(5\, 5\, 5)\; font-family: &quot\;Segoe UI Historic&quot\;\, &quot\;Segoe UI&quot\;\, Helvetica\, Arial\, sans-serif\; font-size: 15px\;" />\n<br style="color: rgb(5\, 5\, 5)\; font-family: &quot\;Segoe UI Historic&quot\;\, &quot\;Segoe UI&quot\;\, Helvetica\, Arial\, sans-serif\; font-size: 15px\;" />\n<span style="color: rgb(5\, 5\, 5)\; font-family: &quot\;Segoe UI Historic&quot\;\, &quot\;Segoe UI&quot\;\, Helvetica\, Arial\, sans-serif\; font-size: 15px\;">Special thanks to our event sponsors:</span><br style="color: rgb(5\, 5\, 5)\; font-family: &quot\;Segoe UI Historic&quot\;\, &quot\;Segoe UI&quot\;\, Helvetica\, Arial\, sans-serif\; font-size: 15px\;" />\n<span style="color: rgb(5\, 5\, 5)\; font-family: &quot\;Segoe UI Historic&quot\;\, &quot\;Segoe UI&quot\;\, Helvetica\, Arial\, sans-serif\; font-size: 15px\;">Mat-Su Health Foundation\, Friends of Wasilla Library\, 49 Writers\, Talkeetna Public Library\, Friends of Talkeetna Library\, Denali Arts Council\, Alaska Quarterly Review\, Alaska Center for the Book\, and Fireside Books. Presented in cooperation with the Alaska State Council on the Arts and the Alaska Humanities Forum.</span>
LOCATION:Wasilla Public Library 500 N. Crusey St. Wasilla\, AK 99654
UID:e.3185.21210
SEQUENCE:3
DTSTAMP:20260423T144028Z
URL:https://business.wasillachamber.org/events/details/an-evening-with-author-heather-lende-at-wasilla-public-library-21210
END:VEVENT

END:VCALENDAR
