BEGIN:VCALENDAR
VERSION:2.0
PRODID:-//ChamberMaster//Event Calendar 2.0//EN
METHOD:PUBLISH
X-PUBLISHED-TTL:P3D
REFRESH-INTERVAL:P3D
CALSCALE:GREGORIAN
BEGIN:VEVENT
DTSTART:20231013T020000Z
DTEND:20231013T050000Z
X-MICROSOFT-CDO-ALLDAYEVENT:FALSE
SUMMARY:Alaska Trails Fall Fundraiser
DESCRIPTION:"Join us for Alaska Trails' annual fall fundraiser to celebrate our 20th anniversary! This year\, the fundraiser will be at Hilltop Ski Area on October 12th from 6-9 pm. Tickets are $50 and appetizers and drinks will be provided. There will be a silent auction with great items from local businesses. It is an opportunity to meet and greet the Alaska Trails board and staff and talk trails with great company. Executive Director Steve Cleary will give an update on all the exciting projects Alaska Trails has been working on and a look at what's to come this winter and next year. Come support our efforts to expand and maintain your Alaskan trail systems!"\n\n\n\nMore information here\n\nTickets here
X-ALT-DESC;FMTTYPE=text/html:<span class="wixui-rich-text__text" style="background: transparent\; border: 0px\; margin: 0px\; outline: 0px\; padding: 0px\; vertical-align: baseline\; font-family: avenir-lt-w01_35-light1475496\, avenir-lt-w05_35-light\, sans-serif\; font-size: 18px\;">&quot\;Join us for Alaska Trails&#39\; annual fall fundraiser to celebrate our 20th anniversary! This year\, the fundraiser&nbsp\;</span><span style="font-family: avenir-lt-w01_35-light1475496\, avenir-lt-w05_35-light\, sans-serif\; font-size: 18px\;">will be at Hilltop Ski Area on October 12th from 6-9 pm. Tickets are $50 and appetizers and drinks will be provided. There will be a silent auction with great items from local businesses. It is an opportunity to meet and greet the Alaska Trails board and staff and talk trails with great company. Executive Director Steve Cleary will give an update on all the exciting projects Alaska Trails has been working on and a look at what&#39\;s to come this winter and next year. Come support our efforts to expand and maintain your Alaskan trail systems!&quot\;<br />\n<br />\nMore information <a href="https://www.alaska-trails.org/fall-fundraiser?fbclid=IwAR2sOY-V5d3k_D8Mr0kQ_BPorGD6fa-ECHbpmF3Hq-dWFxz5eVG9NQiuXIc">here</a><br />\nTickets <a href="https://secure.lglforms.com/form_engine/s/tp1jg73o8ax5y2hmEfK-OQ">here</a></span>
LOCATION:Hilltop Ski Area
UID:e.3185.21093
SEQUENCE:3
DTSTAMP:20260423T143628Z
URL:https://business.wasillachamber.org/events/details/alaska-trails-fall-fundraiser-21093
END:VEVENT

END:VCALENDAR
