BEGIN:VCALENDAR
VERSION:2.0
PRODID:-//ChamberMaster//Event Calendar 2.0//EN
METHOD:PUBLISH
X-PUBLISHED-TTL:P3D
REFRESH-INTERVAL:P3D
CALSCALE:GREGORIAN
BEGIN:VEVENT
DTSTART:20231021T180000Z
DTEND:20231023T010000Z
X-MICROSOFT-CDO-ALLDAYEVENT:FALSE
SUMMARY:Alaska State Fair Holiday Bazaar
DESCRIPTION:The Holiday Bazaar at the Fair that will take place on October 21   22 . It will be open Saturday from 10 a.m.   5 p.m. and Sunday from 11 a.m.   5 p.m. at Raven Hall and Hoskins Building. Admission to the bazaar is free!\n\nThe popular event provides an excellent opportunity to jumpstart holiday shopping\, with a wide range of gifts from more than 100 vendors to choose from. Clothing\, art\, knives\, jewelry\, glasswork\, quilts\, antiques\, food products\, furniture\, woodwork and books are just some of the items that can be found at the bazaar. A variety of food trucks will be on-site to keep shoppers fueled. In between shopping and great food\, the family can meet Santa!
X-ALT-DESC;FMTTYPE=text/html:<p style="margin: 5px 0px 10px\; padding: 0px\; border: 0px\; outline: 0px\; font-size: 1.125rem\; vertical-align: baseline\; background: 0px 0px\; line-height: 1.667\; text-rendering: optimizelegibility\; font-family: Arial\, Helvetica\, sans-serif\;">The Holiday Bazaar at the Fair that will take place on&nbsp\;<span style="font-weight: 700\; margin: 0px\; padding: 0px\; border: 0px\; outline: 0px\; vertical-align: baseline\; background: 0px 0px\; color: rgb(57\, 97\, 40)\;">October 21 &ndash\; 22&nbsp\;</span>. It will be&nbsp\;<span style="font-weight: 700\; margin: 0px\; padding: 0px\; border: 0px\; outline: 0px\; vertical-align: baseline\; background: 0px 0px\; color: rgb(57\, 97\, 40)\;">open Saturday from</span>&nbsp\;<span style="font-weight: 700\; margin: 0px\; padding: 0px\; border: 0px\; outline: 0px\; vertical-align: baseline\; background: 0px 0px\; color: rgb(57\, 97\, 40)\;">10 a.m. &ndash\; 5 p.m. and Sunday from 11 a.m. &ndash\; 5 p.m</span>. at Raven Hall and Hoskins Building. Admission to the bazaar is free!</p>\n\n<p style="margin: 5px 0px 10px\; padding: 0px\; border: 0px\; outline: 0px\; font-size: 1.125rem\; vertical-align: baseline\; background: 0px 0px\; line-height: 1.667\; text-rendering: optimizelegibility\; font-family: Arial\, Helvetica\, sans-serif\;">The popular event provides an excellent opportunity to jumpstart holiday shopping\, with a wide range of gifts from more than 100 vendors to choose from. Clothing\, art\, knives\, jewelry\, glasswork\, quilts\, antiques\, food products\, furniture\, woodwork and books are just some of the items that can be found at the bazaar. A variety of food trucks will be on-site to keep shoppers fueled. In between shopping and great food\, the family can meet Santa!</p>\n
LOCATION:Alaska State Fairgrounds Raven Hall 2075 Glenn Hwy Palmer\, AK 99645
UID:e.3185.21164
SEQUENCE:3
DTSTAMP:20260423T143712Z
URL:https://business.wasillachamber.org/events/details/alaska-state-fair-holiday-bazaar-21164
END:VEVENT

END:VCALENDAR
