BEGIN:VCALENDAR
VERSION:2.0
PRODID:-//ChamberMaster//Event Calendar 2.0//EN
METHOD:PUBLISH
X-PUBLISHED-TTL:P3D
REFRESH-INTERVAL:P3D
CALSCALE:GREGORIAN
BEGIN:VEVENT
DTSTART:20231003T020000Z
DTEND:20231003T040000Z
X-MICROSOFT-CDO-ALLDAYEVENT:FALSE
SUMMARY:AKtive Soles Performance Footwear 15th Anniversary Celebration
DESCRIPTION:Join Aktive Soles Performance Footwear on Monday\, October 2nd at the Palmer Alehouse while we celebrate Happy Run\, Soles in the Backcountry AND AKtive Soles' 15th Year Anniversary!\n\n\n\nCupcakes\, coupons and a raffle! Join Happy Run to receive a raffle ticket (starting at AKtive Soles @6pm).
X-ALT-DESC;FMTTYPE=text/html:<div class="xyamay9 x1pi30zi xsag5q8 x1swvt13" style="padding: 16px 16px 12px\; font-family: inherit\;">\n<div style="font-family: inherit\;">\n<div class="xyinxu5 x4uap5 x1g2khh7 xkhd6sd" style="padding: 14px 0px\; font-family: inherit\;"><span class="x193iq5w xeuugli x13faqbe x1vvkbs x1xmvt09 x1lliihq x1s928wv xhkezso x1gmr53x x1cpjm7i x1fgarty x1943h6x xudqn12 x3x7a5m x6prxxf xvq8zen xo1l8bm xzsf02u" dir="auto" style="word-break: break-word\; max-width: 100%\; display: block\; overflow-wrap: break-word\; font-family: inherit\; font-size: 0.9375rem\; min-width: 0px\; line-height: 1.3333\; color: var(--primary-text)\;">Join Aktive Soles Performance Footwear on Monday\, October 2nd at the Palmer Alehouse while we celebrate Happy Run\, Soles in the Backcountry AND AKtive Soles&#39\; 15th Year Anniversary!<br />\n<br />\nCupcakes\, coupons and a raffle! Join Happy Run to receive a raffle ticket (starting at AKtive Soles @6pm).</span></div>\n</div>\n</div>\n\n<div style="font-family: inherit\;">\n<div style="font-family: inherit\;">\n<div class="x1n2onr6" style="position: relative\; font-family: inherit\;">\n<div class="x6s0dn4 xi81zsa x78zum5 x6prxxf x13a6bvl xvq8zen xdj266r xktsk01 xat24cr x1d52u69 x889kno x4uap5 x1a8lsjc xkhd6sd xdppsyt" style="border-bottom: 1px solid var(--divider)\; justify-content: flex-end\; padding: 10px 0px\; margin: 0px 16px\; font-size: 0.9375rem\; align-items: center\; display: flex\; color: var(--secondary-text)\; line-height: 1.3333\; font-family: inherit\;">\n<div class="x1c4vz4f x2lah0s xci0xqf" style="flex-grow: 0\; flex-shrink: 0\; width: 7px\; font-family: &quot\;Segoe UI Historic&quot\;\, &quot\;Segoe UI&quot\;\, Helvetica\, Arial\, sans-serif\; color: rgb(101\, 103\, 107)\;">&nbsp\;</div>\n\n<div class="x9f619 x1n2onr6 x1ja2u2z x78zum5 x2lah0s x1qughib x1qjc9v5 xozqiw3 x1q0g3np xykv574 xbmpl8g x4cne27 xifccgj" style="z-index: 0\; position: relative\; flex-flow: row\; align-items: stretch\; justify-content: space-between\; flex-shrink: 0\; margin: -6px\; display: flex\; box-sizing: border-box\; font-family: &quot\;Segoe UI Historic&quot\;\, &quot\;Segoe UI&quot\;\, Helvetica\, Arial\, sans-serif\; color: rgb(101\, 103\, 107)\;">&nbsp\;</div>\n</div>\n</div>\n</div>\n</div>\n
LOCATION:Happy Run Starts at AKtive Soles Palmer Location 642 S Alaska St STE 100\, Palmer\, AK 99645 Ends at 15th Anniversary at Palmer Alehouse 320 E Dahlia Ave\, Palmer\, AK 99645
UID:e.3185.21211
SEQUENCE:3
DTSTAMP:20260423T144226Z
URL:https://business.wasillachamber.org/events/details/aktive-soles-performance-footwear-15th-anniversary-celebration-21211
END:VEVENT

END:VCALENDAR
