BEGIN:VCALENDAR
VERSION:2.0
PRODID:-//ChamberMaster//Event Calendar 2.0//EN
METHOD:PUBLISH
X-PUBLISHED-TTL:P3D
REFRESH-INTERVAL:P3D
CALSCALE:GREGORIAN
BEGIN:VEVENT
DTSTART:20231019T230000Z
DTEND:20231020T020000Z
X-MICROSOFT-CDO-ALLDAYEVENT:FALSE
SUMMARY:6th Annual Pumpkin Patch Coat Drive
DESCRIPTION:Donate a gently used or new coat and get a free pumpkin!*\n\n$10 donations are also accepted in lieu of a coat.\n\n\n\nCome enjoy a hot cocoa\, a hot dog\, s'mores and stay warm by the fire.\n\nGive the gift of warmth to those in need and pick out your pumpkin(s).\n\n\n\n  BENEFITING  \n\nTHE SALVATION ARMY\n\nCOATS FOR KIDS PROGRAM\n\n\n\n*while supplies last
X-ALT-DESC;FMTTYPE=text/html:Donate a gently used or new coat and get a free pumpkin!*<br />\n$10 donations are also accepted in lieu of a coat.<br />\n<br />\nCome enjoy a hot cocoa\, a hot dog\, s&rsquo\;mores and stay warm by the fire.<br />\nGive the gift of warmth to those in need and pick out your pumpkin(s).<br />\n<br />\n&mdash\; BENEFITING &mdash\;<br />\nTHE SALVATION ARMY<br />\nCOATS FOR KIDS PROGRAM<br />\n<br />\n*while supplies last
LOCATION:1174 N. Leatherleaf Loop Wasilla\, AK 99654
UID:e.3185.21146
SEQUENCE:3
DTSTAMP:20260423T143637Z
URL:https://business.wasillachamber.org/events/details/6th-annual-pumpkin-patch-coat-drive-21146
END:VEVENT

END:VCALENDAR
