BEGIN:VCALENDAR
VERSION:2.0
PRODID:-//ChamberMaster//Event Calendar 2.0//EN
METHOD:PUBLISH
X-PUBLISHED-TTL:P3D
REFRESH-INTERVAL:P3D
CALSCALE:GREGORIAN
BEGIN:VEVENT
DTSTART:20220625T170000Z
DTEND:20220625T220000Z
X-MICROSOFT-CDO-ALLDAYEVENT:FALSE
SUMMARY:2022 Miles for Meals on Wheels 5K
DESCRIPTION:2022 Miles for Meals on Wheels - Fighting senior hunger in the Mat-Su\n\n5K Fun Run\, Walk\, and Roll\n\nCheck-in begins at 9:00 AM\n\n\n\nCall 376-3104 or check us out on Facebook
X-ALT-DESC;FMTTYPE=text/html:2022 Miles for Meals on Wheels - Fighting senior hunger in the Mat-Su<br />\n5K Fun Run\, Walk\, and Roll<br />\nCheck-in begins at 9:00 AM<br />\n<br />\nCall 376-3104 or check us out on Facebook
LOCATION:
UID:e.3185.16504
SEQUENCE:3
DTSTAMP:20260422T180002Z
URL:https://business.wasillachamber.org/events/details/2022-miles-for-meals-on-wheels-5k-16504
END:VEVENT

END:VCALENDAR
