BEGIN:VCALENDAR
VERSION:2.0
PRODID:-//ChamberMaster//Event Calendar 2.0//EN
METHOD:PUBLISH
X-PUBLISHED-TTL:P3D
REFRESH-INTERVAL:P3D
CALSCALE:GREGORIAN
BEGIN:VEVENT
DTSTART:20200807T023000Z
DTEND:20200807T033000Z
X-MICROSOFT-CDO-ALLDAYEVENT:FALSE
SUMMARY:Yoga on the Green at Settlers Bay Golf Course
DESCRIPTION:YOGA ON THE GREEN\n\nFree Yoga Class!!!\n\nAfter such a long winter & being cooped up\, we owe it to ourselves to get out and enjoy these beautiful sunny days!\n\nCome out to sunny Settlers Bay Golf Course on Thursday\, July 9th @ 6:30 PM for a free yoga class!\n\nAll you have to do is grab a friend & bring your Yoga Mat!!!
X-ALT-DESC;FMTTYPE=text/html:<span style="color: rgb(29\, 33\, 41)\; font-family: Helvetica\, Arial\, sans-serif\; font-size: 14px\; white-space: pre-wrap\; background-color: rgb(255\, 255\, 255)\;">YOGA ON THE GREEN</span><br style="color: rgb(29\, 33\, 41)\; font-family: Helvetica\, Arial\, sans-serif\; font-size: 14px\; white-space: pre-wrap\; background-color: rgb(255\, 255\, 255)\;" />\n<span style="color: rgb(29\, 33\, 41)\; font-family: Helvetica\, Arial\, sans-serif\; font-size: 14px\; white-space: pre-wrap\; background-color: rgb(255\, 255\, 255)\;">Free Yoga Class!!!</span><br style="color: rgb(29\, 33\, 41)\; font-family: Helvetica\, Arial\, sans-serif\; font-size: 14px\; white-space: pre-wrap\; background-color: rgb(255\, 255\, 255)\;" />\n<span style="color: rgb(29\, 33\, 41)\; font-family: Helvetica\, Arial\, sans-serif\; font-size: 14px\; white-space: pre-wrap\; background-color: rgb(255\, 255\, 255)\;">After such a long winter &amp\; being cooped up\, we owe it to ourselves to get out and enjoy these beautiful sunny days!</span><br style="color: rgb(29\, 33\, 41)\; font-family: Helvetica\, Arial\, sans-serif\; font-size: 14px\; white-space: pre-wrap\; background-color: rgb(255\, 255\, 255)\;" />\n<span style="color: rgb(29\, 33\, 41)\; font-family: Helvetica\, Arial\, sans-serif\; font-size: 14px\; white-space: pre-wrap\; background-color: rgb(255\, 255\, 255)\;">Come out to sunny Settlers Bay Golf Course on Thursday\, July 9th @ 6:30 PM for a free yoga class!</span><br style="color: rgb(29\, 33\, 41)\; font-family: Helvetica\, Arial\, sans-serif\; font-size: 14px\; white-space: pre-wrap\; background-color: rgb(255\, 255\, 255)\;" />\n<span style="color: rgb(29\, 33\, 41)\; font-family: Helvetica\, Arial\, sans-serif\; font-size: 14px\; white-space: pre-wrap\; background-color: rgb(255\, 255\, 255)\;">All you have to do is grab a friend &amp\; bring your Yoga Mat!!!</span>
LOCATION:Settlers Bay Golf Course 7307 S. Frontier Dr.. Wasilla\, AK 99654
UID:e.3185.7254
SEQUENCE:3
DTSTAMP:20260422T064936Z
URL:http://business.wasillachamber.org/events/details/yoga-on-the-green-at-settlers-bay-gold-course-08-06-2020-7254
END:VEVENT

END:VCALENDAR
