BEGIN:VCALENDAR
VERSION:2.0
PRODID:-//ChamberMaster//Event Calendar 2.0//EN
METHOD:PUBLISH
X-PUBLISHED-TTL:P3D
REFRESH-INTERVAL:P3D
CALSCALE:GREGORIAN
BEGIN:VEVENT
DTSTART:20220427T190000Z
DTEND:20220427T200000Z
X-MICROSOFT-CDO-ALLDAYEVENT:FALSE
SUMMARY:Workplace Alaska
DESCRIPTION:Learn about applying for state employment through Workplace Alaska by creating a profile and application materials targeted to a specific job announcement.
X-ALT-DESC;FMTTYPE=text/html:Learn about applying for state employment through Workplace Alaska by creating a profile and application materials targeted to a specific job announcement.&nbsp\;
LOCATION:online via ZOOM Meetings
UID:e.3185.11796
SEQUENCE:3
DTSTAMP:20260419T121822Z
URL:http://business.wasillachamber.org/events/details/workplace-alaska-04-27-2022-11796
END:VEVENT

END:VCALENDAR
