BEGIN:VCALENDAR
VERSION:2.0
PRODID:-//ChamberMaster//Event Calendar 2.0//EN
METHOD:PUBLISH
X-PUBLISHED-TTL:P3D
REFRESH-INTERVAL:P3D
CALSCALE:GREGORIAN
BEGIN:VEVENT
DTSTART:20210216T210000Z
DTEND:20210216T220000Z
X-MICROSOFT-CDO-ALLDAYEVENT:FALSE
SUMMARY:GWCC VIRTUAL Luncheon
DESCRIPTION:Join us for virtual luncheon!\n\n\n\nOur February 16th luncheon will feature a presentation by Altman\, Rogers & Co. Discussions will include 30 years in Business\, Audits\, PPP\, and Industry Changes with the Pandemic.\n\n\n\nWe will do our best to accommodate our typical government official announcements as well as our typical 60-second member announcements as time allows. If you will be able to attend and would like to pre-submit your name for announcements\, please email Jessica. \n\nAlso\, we are continuing to offer door prizes\, so if you would like to offer a door prize please let Jessica know so your prize can be added to the list.\n\n\n\nIf you are interested in speaking at one of our Chamber Luncheons\, please send an email to Chamber Staff (contact@wasillachamber.org) detailing who you are\, your company\, and what you would like to speak about\, and someone will be in contact with you.
X-ALT-DESC;FMTTYPE=text/html:<span style="font-style: inherit\; font-variant: inherit\; letter-spacing: inherit\; text-align: inherit\; text-indent: inherit\; text-transform: inherit\; white-space: inherit\; word-spacing: inherit\; border: none\; margin: 0px\; padding: 0px\; inset: auto\; box-sizing: content-box\; clear: none\; color: rgb(64\, 63\, 66)\; content: normal\; direction: inherit\; empty-cells: show\; font-weight: bolder\; font-stretch: inherit\; font-size: 18px\; font-family: arial\, sans-serif\; line-height: inherit\; max-height: none\; max-width: none\; min-height: initial\; min-width: initial\; opacity: 1\; outline-offset: 0px\; overflow: visible\; position: static\; resize: none\; table-layout: auto\; text-overflow: clip\; vertical-align: baseline\; visibility: inherit\; word-break: inherit\; overflow-wrap: inherit\; z-index: auto\; background-image: none\; background-position: initial\; background-size: initial\; background-repeat: initial\; background-attachment: initial\; background-origin: initial\; background-clip: initial\; border-collapse: separate\; border-radius: 0px\; height: auto\; width: auto\; box-shadow: none\;">Join us for virtual luncheon!<br />\n<br />\nOur February 16th luncheon will feature a presentation by Altman\, Rogers &amp\; Co. Discussions will include&nbsp\;</span><strong><span style="font-size:18px\;"><span style="color: rgb(29\, 28\, 29)\; font-family: Slack-Lato\, appleLogo\, sans-serif\; font-variant-ligatures: common-ligatures\; background-color: rgb(248\, 248\, 248)\;">30 years in Business\, Audits\, PPP\, and Industry Changes with the Pandemic.</span></span></strong><br />\n<br />\n<span style="font-style: inherit\; font-variant: inherit\; letter-spacing: inherit\; text-align: inherit\; text-indent: inherit\; text-transform: inherit\; white-space: inherit\; word-spacing: inherit\; border: none\; margin: 0px\; padding: 0px\; inset: auto\; box-sizing: content-box\; clear: none\; color: rgb(64\, 63\, 66)\; content: normal\; direction: inherit\; empty-cells: show\; font-weight: bolder\; font-stretch: inherit\; font-size: 18px\; font-family: arial\, sans-serif\; line-height: inherit\; max-height: none\; max-width: none\; min-height: initial\; min-width: initial\; opacity: 1\; outline-offset: 0px\; overflow: visible\; position: static\; resize: none\; table-layout: auto\; text-overflow: clip\; vertical-align: baseline\; visibility: inherit\; word-break: inherit\; overflow-wrap: inherit\; z-index: auto\; background-image: none\; background-position: initial\; background-size: initial\; background-repeat: initial\; background-attachment: initial\; background-origin: initial\; background-clip: initial\; border-collapse: separate\; border-radius: 0px\; height: auto\; width: auto\; box-shadow: none\;">We will do our best to accommodate our typical government official announcements as well as our typical 60-second member announcements as time allows. If you will be able to attend and would like to pre-submit your name for announcements\, please&nbsp\;<a href="mailto:jessica@wasillachamber.org" style="color: rgb(178\, 5\, 0)\; border: none\; margin: 0px\; padding: 0px\; background-image: none\; background-position: initial\; background-size: initial\; background-repeat: initial\; background-attachment: initial\; background-origin: initial\; background-clip: initial\; transition: color 0.1s ease-in-out 0s\, background-color 0.1s ease-in-out 0s\; text-decoration-line: none\; inset: auto\; box-sizing: content-box\; clear: none\; content: normal\; direction: inherit\; display: inline\; empty-cells: show\; float: none\; font: inherit\; letter-spacing: inherit\; max-height: none\; max-width: none\; min-height: initial\; min-width: initial\; opacity: 1\; outline-offset: 0px\; overflow: visible\; position: static\; resize: none\; table-layout: auto\; text-align: inherit\; text-indent: inherit\; text-overflow: clip\; text-transform: inherit\; vertical-align: baseline\; visibility: inherit\; white-space: inherit\; word-break: inherit\; word-spacing: inherit\; overflow-wrap: break-word\; z-index: auto\; border-collapse: separate\; border-radius: 0px\; height: auto\; width: auto\; box-shadow: none\;">email Jessica.</a>&nbsp\;<br style="inset: auto\; box-sizing: content-box\; clear: none\; color: inherit\; content: normal\; direction: inherit\; display: inline\; empty-cells: show\; float: none\; font: inherit\; letter-spacing: inherit\; margin: 0px\; max-height: none\; max-width: none\; min-height: initial\; min-width: initial\; opacity: 1\; outline-offset: 0px\; overflow: visible\; padding: 0px\; position: static\; resize: none\; table-layout: auto\; text-align: inherit\; text-indent: inherit\; text-overflow: clip\; text-transform: inherit\; vertical-align: baseline\; visibility: inherit\; white-space: inherit\; word-break: inherit\; word-spacing: inherit\; overflow-wrap: inherit\; z-index: auto\; background-image: none\; background-position: initial\; background-size: initial\; background-repeat: initial\; background-attachment: initial\; background-origin: initial\; background-clip: initial\; border: none\; border-collapse: separate\; border-radius: 0px\; height: auto\; width: auto\;" />\nAlso\, we are continuing to offer door prizes\, so if you would like to offer a door prize please let&nbsp\;<a href="mailto:jessica@wasillachamber.org" style="color: rgb(178\, 5\, 0)\; border: none\; margin: 0px\; padding: 0px\; background-image: none\; background-position: initial\; background-size: initial\; background-repeat: initial\; background-attachment: initial\; background-origin: initial\; background-clip: initial\; transition: color 0.1s ease-in-out 0s\, background-color 0.1s ease-in-out 0s\; text-decoration-line: none\; inset: auto\; box-sizing: content-box\; clear: none\; content: normal\; direction: inherit\; display: inline\; empty-cells: show\; float: none\; font: inherit\; letter-spacing: inherit\; max-height: none\; max-width: none\; min-height: initial\; min-width: initial\; opacity: 1\; outline-offset: 0px\; overflow: visible\; position: static\; resize: none\; table-layout: auto\; text-align: inherit\; text-indent: inherit\; text-overflow: clip\; text-transform: inherit\; vertical-align: baseline\; visibility: inherit\; white-space: inherit\; word-break: inherit\; word-spacing: inherit\; overflow-wrap: break-word\; z-index: auto\; border-collapse: separate\; border-radius: 0px\; height: auto\; width: auto\; box-shadow: none\;">Jessica know</a>&nbsp\;so your prize can be added to the list.</span><br style="color: inherit\; font: inherit\; letter-spacing: inherit\; text-align: inherit\; text-indent: inherit\; text-transform: inherit\; white-space: inherit\; word-spacing: inherit\; inset: auto\; box-sizing: content-box\; clear: none\; content: normal\; direction: inherit\; display: inline\; empty-cells: show\; float: none\; margin: 0px\; max-height: none\; max-width: none\; min-height: initial\; min-width: initial\; opacity: 1\; outline-offset: 0px\; overflow: visible\; padding: 0px\; position: static\; resize: none\; table-layout: auto\; text-overflow: clip\; vertical-align: baseline\; visibility: inherit\; word-break: inherit\; overflow-wrap: inherit\; z-index: auto\; background-image: none\; background-position: initial\; background-size: initial\; background-repeat: initial\; background-attachment: initial\; background-origin: initial\; background-clip: initial\; border: none\; border-collapse: separate\; border-radius: 0px\; height: auto\; width: auto\;" />\n<br style="color: inherit\; font: inherit\; letter-spacing: inherit\; text-align: inherit\; text-indent: inherit\; text-transform: inherit\; white-space: inherit\; word-spacing: inherit\; inset: auto\; box-sizing: content-box\; clear: none\; content: normal\; direction: inherit\; display: inline\; empty-cells: show\; float: none\; margin: 0px\; max-height: none\; max-width: none\; min-height: initial\; min-width: initial\; opacity: 1\; outline-offset: 0px\; overflow: visible\; padding: 0px\; position: static\; resize: none\; table-layout: auto\; text-overflow: clip\; vertical-align: baseline\; visibility: inherit\; word-break: inherit\; overflow-wrap: inherit\; z-index: auto\; background-image: none\; background-position: initial\; background-size: initial\; background-repeat: initial\; background-attachment: initial\; background-origin: initial\; background-clip: initial\; border: none\; border-collapse: separate\; border-radius: 0px\; height: auto\; width: auto\;" />\n<font color="#403f42" face="arial\, sans-serif" style="border: 0px\; margin: 0px\; padding: 0px\; font-size: 17px\;"><span style="border: none\; margin: 0px\; padding: 0px\; inset: auto\; box-sizing: content-box\; clear: none\; color: inherit\; content: normal\; direction: inherit\; empty-cells: show\; font-style: inherit\; font-variant: inherit\; font-weight: inherit\; font-stretch: inherit\; font-size: 18px\; font-family: inherit\; letter-spacing: inherit\; line-height: inherit\; max-height: none\; max-width: none\; min-height: initial\; min-width: initial\; opacity: 1\; outline-offset: 0px\; overflow: visible\; position: static\; resize: none\; table-layout: auto\; text-align: inherit\; text-indent: inherit\; text-overflow: clip\; text-transform: inherit\; vertical-align: baseline\; visibility: inherit\; white-space: inherit\; word-break: inherit\; word-spacing: inherit\; overflow-wrap: inherit\; z-index: auto\; background: none\; border-collapse: separate\; border-radius: 0px\; height: auto\; width: auto\; box-shadow: none\;"><span style="border: none\; margin: 0px\; padding: 0px\; inset: auto\; box-sizing: content-box\; clear: none\; color: inherit\; content: normal\; direction: inherit\; empty-cells: show\; font-style: inherit\; font-variant: inherit\; font-weight: bolder\; font-stretch: inherit\; font-size: inherit\; font-family: inherit\; letter-spacing: inherit\; line-height: inherit\; max-height: none\; max-width: none\; min-height: initial\; min-width: initial\; opacity: 1\; outline-offset: 0px\; overflow: visible\; position: static\; resize: none\; table-layout: auto\; text-align: inherit\; text-indent: inherit\; text-overflow: clip\; text-transform: inherit\; vertical-align: baseline\; visibility: inherit\; white-space: inherit\; word-break: inherit\; word-spacing: inherit\; overflow-wrap: inherit\; z-index: auto\; background: none\; border-collapse: separate\; border-radius: 0px\; height: auto\; width: auto\; box-shadow: none\;">If you are interested in speaking at one of our Chamber Luncheons\, please send an email to Chamber Staff (contact@wasillachamber.org) detailing who you are\, your company\, and what you would like to speak about\, and someone will be in contact with you.</span></span></font>
LOCATION:ZOOM Meeting
UID:e.3185.10186
SEQUENCE:3
DTSTAMP:20260424T083448Z
URL:http://business.wasillachamber.org/events/details/virtual-luncheon-02-16-2021-10186
END:VEVENT

END:VCALENDAR
