BEGIN:VCALENDAR
VERSION:2.0
PRODID:-//ChamberMaster//Event Calendar 2.0//EN
METHOD:PUBLISH
X-PUBLISHED-TTL:P3D
REFRESH-INTERVAL:P3D
CALSCALE:GREGORIAN
BEGIN:VEVENT
DTSTART:20220630T020000Z
DTEND:20220630T030000Z
X-MICROSOFT-CDO-ALLDAYEVENT:FALSE
SUMMARY:Valley Performing Arts Annual Meeting
DESCRIPTION:Mark your calendar for Wednesday\, June 29th for VPA's annual meeting and awards ceremony.\n\nJoin us for finger foods\, an update on next season\, and help us honor our hard working volunteers!\n\n\n\nFood service will start at 6PM followed by a brief business meeting at 6:45 and then the awards ceremony at 7PM.\n\n\n\nCome join the FUN at VPA!
X-ALT-DESC;FMTTYPE=text/html:<span style="color: rgb(5\, 5\, 5)\; font-family: &quot\;Segoe UI Historic&quot\;\, &quot\;Segoe UI&quot\;\, Helvetica\, Arial\, sans-serif\; font-size: 15px\;">Mark your calendar for Wednesday\, June 29th for VPA&#39\;s annual meeting and awards ceremony.<br />\nJoin us for finger foods\, an update on next season\, and help us honor our hard working volunteers!<br />\n<br />\nFood service will start at 6PM followed by a brief business meeting at 6:45 and then the awards ceremony at 7PM.<br />\n<br />\nCome join the FUN at VPA!</span>
LOCATION:Valley Performing Arts 251 W. Swanson Ave. Wasilla\, AK 99654
UID:e.3185.16721
SEQUENCE:3
DTSTAMP:20260426T031436Z
URL:http://business.wasillachamber.org/events/details/valley-performing-arts-annual-meeting-16721
END:VEVENT

END:VCALENDAR
