BEGIN:VCALENDAR
VERSION:2.0
PRODID:-//ChamberMaster//Event Calendar 2.0//EN
METHOD:PUBLISH
X-PUBLISHED-TTL:P3D
REFRESH-INTERVAL:P3D
CALSCALE:GREGORIAN
BEGIN:VEVENT
DTSTART:20201025T023000Z
DTEND:20201025T040000Z
X-MICROSOFT-CDO-ALLDAYEVENT:FALSE
SUMMARY:Tyson Cole at Everett's
DESCRIPTION:
X-ALT-DESC;FMTTYPE=text/html:
LOCATION:
UID:e.3185.9657
SEQUENCE:3
DTSTAMP:20260425T231837Z
URL:http://business.wasillachamber.org/events/details/tyson-cole-at-everett-s-9657
END:VEVENT

END:VCALENDAR
