BEGIN:VCALENDAR
VERSION:2.0
PRODID:-//ChamberMaster//Event Calendar 2.0//EN
METHOD:PUBLISH
X-PUBLISHED-TTL:P3D
REFRESH-INTERVAL:P3D
CALSCALE:GREGORIAN
BEGIN:VEVENT
DTSTART:20210320T023000Z
DTEND:20210320T053000Z
X-MICROSOFT-CDO-ALLDAYEVENT:FALSE
SUMMARY:Tyson Cole at Everett's
DESCRIPTION:No cover\, reservations strongly reccomended
X-ALT-DESC;FMTTYPE=text/html:No cover\, reservations strongly reccomended
LOCATION:Everett's Mat-Su Resort 1850 E. Bogard Rd. Wasilla\, AK 99654
UID:e.3185.12613
SEQUENCE:3
DTSTAMP:20260423T001256Z
URL:http://business.wasillachamber.org/events/details/tyson-cole-at-everett-s-12613
END:VEVENT

END:VCALENDAR
