BEGIN:VCALENDAR
VERSION:2.0
PRODID:-//ChamberMaster//Event Calendar 2.0//EN
METHOD:PUBLISH
X-PUBLISHED-TTL:P3D
REFRESH-INTERVAL:P3D
CALSCALE:GREGORIAN
BEGIN:VEVENT
DTSTART;VALUE=DATE:20220620
DTEND;VALUE=DATE:20220621
TRANSP:TRANSPARENT
X-MICROSOFT-CDO-ALLDAYEVENT:TRUE
SUMMARY:turn-A-leaf Thrift Store Backyard Birding Challenge
DESCRIPTION:Hey kids\, we have a fun outdoor activity for you this summer! Our turn-A-leaf Thrift Store Backyard Birding Challenge. Kids\, come into turn-A-leaf Thrift store (In-Person) to sign-up for the challenge to receive a Goody Bag that has a Birding Journal\, a pair of "pretend" binoculars inside. (Limit 1 per in-person child)\n\n\n\nThe activity journal has photos\, identification information\, and coloring pages of 12 Alaska backyard birds. Kids ages 6-12 years of age will look for and find at least 7 of 12 birds to check off when they see them. Each child will be given a personalized Certificate of Achievement and Backyard Birding Challenge pin on completion.\n\n\n\nBut wait\, there's more!\n\n\n\nKids who sign-up will also be given a Raffle Ticket to enter to win National Geographic's Bird Guide of North America book\, and a National Geographic's Backyard Safari Kit which includes a safari vest\, hat\, kids binoculars\, magnifying glass\, field guide and stickers) and National Geographic Bird Guide of North America. We'll draw the winners name on the 15th and announce it in-store and on our turn-A-leaf Thrift Store's Facebook page.\n\n\n\nStarts June 6 and ends on August 14\, 2022
X-ALT-DESC;FMTTYPE=text/html:<div class="kvgmc6g5 cxmmr5t8 oygrvhab hcukyx3x c1et5uql ii04i59q" style="overflow-wrap: break-word\; margin: 0px\; white-space: pre-wrap\; font-family: &quot\;Segoe UI Historic&quot\;\, &quot\;Segoe UI&quot\;\, Helvetica\, Arial\, sans-serif\; color: rgb(5\, 5\, 5)\; font-size: 15px\;">\n<div dir="auto" style="font-family: inherit\;">Hey kids\, we have a fun outdoor activity for you this summer! Our turn-A-leaf Thrift Store Backyard Birding Challenge. Kids\, come into turn-A-leaf Thrift store (In-Person) to sign-up for the challenge to receive a Goody Bag that has a Birding Journal\, a pair of &ldquo\;pretend&rdquo\; binoculars inside. (Limit 1 per in-person child)</div>\n</div>\n\n<div class="cxmmr5t8 oygrvhab hcukyx3x c1et5uql o9v6fnle ii04i59q" style="overflow-wrap: break-word\; margin: 0.5em 0px 0px\; white-space: pre-wrap\; font-family: &quot\;Segoe UI Historic&quot\;\, &quot\;Segoe UI&quot\;\, Helvetica\, Arial\, sans-serif\; color: rgb(5\, 5\, 5)\; font-size: 15px\;">\n<div dir="auto" style="font-family: inherit\;">The activity journal has photos\, identification information\, and coloring pages of 12 Alaska backyard birds. Kids ages 6-12 years of age will look for and find at least 7 of 12 birds to check off when they see them. Each child will be given a personalized Certificate of Achievement and Backyard Birding Challenge pin on completion.</div>\n</div>\n\n<div class="cxmmr5t8 oygrvhab hcukyx3x c1et5uql o9v6fnle ii04i59q" style="overflow-wrap: break-word\; margin: 0.5em 0px 0px\; white-space: pre-wrap\; font-family: &quot\;Segoe UI Historic&quot\;\, &quot\;Segoe UI&quot\;\, Helvetica\, Arial\, sans-serif\; color: rgb(5\, 5\, 5)\; font-size: 15px\;">\n<div dir="auto" style="font-family: inherit\;">But wait\, there&rsquo\;s more!</div>\n</div>\n\n<div class="cxmmr5t8 oygrvhab hcukyx3x c1et5uql o9v6fnle ii04i59q" style="overflow-wrap: break-word\; margin: 0.5em 0px 0px\; white-space: pre-wrap\; font-family: &quot\;Segoe UI Historic&quot\;\, &quot\;Segoe UI&quot\;\, Helvetica\, Arial\, sans-serif\; color: rgb(5\, 5\, 5)\; font-size: 15px\;">\n<div dir="auto" style="font-family: inherit\;">Kids who sign-up will also be given a Raffle Ticket to enter to win National Geographic&rsquo\;s Bird Guide of North America book\, and a National Geographic&rsquo\;s Backyard Safari Kit which includes a safari vest\, hat\, kids binoculars\, magnifying glass\, field guide and stickers) and National Geographic Bird Guide of North America. We&rsquo\;ll draw the winners name on the 15th and announce it in-store and on our turn-A-leaf Thrift Store&rsquo\;s Facebook page.</div>\n</div>\n\n<div class="cxmmr5t8 oygrvhab hcukyx3x c1et5uql o9v6fnle ii04i59q" style="overflow-wrap: break-word\; margin: 0.5em 0px 0px\; white-space: pre-wrap\; font-family: &quot\;Segoe UI Historic&quot\;\, &quot\;Segoe UI&quot\;\, Helvetica\, Arial\, sans-serif\; color: rgb(5\, 5\, 5)\; font-size: 15px\;">\n<div dir="auto" style="font-family: inherit\;">Starts June 6 and ends on August 14\, 2022</div>\n</div>\n
LOCATION:Your Backyard!
UID:e.3185.16706
SEQUENCE:3
DTSTAMP:20260426T030843Z
URL:http://business.wasillachamber.org/events/details/turn-a-leaf-thrift-store-backyard-birding-challenge-16706
END:VEVENT

END:VCALENDAR
