BEGIN:VCALENDAR
VERSION:2.0
PRODID:-//ChamberMaster//Event Calendar 2.0//EN
METHOD:PUBLISH
X-PUBLISHED-TTL:P3D
REFRESH-INTERVAL:P3D
CALSCALE:GREGORIAN
BEGIN:VEVENT
DTSTART:20230911T000000Z
DTEND:20230911T040000Z
X-MICROSOFT-CDO-ALLDAYEVENT:FALSE
SUMMARY:Trick or Treat in the Heat at Settlers Bay!
DESCRIPTION:"Trick or Treat in the Heat" is back at Settlers Bay Wasilla! The event will be held on Sunday\, September 10th from 4PM to 8PM. The sendoff will be at the Albatross at Settlers Bay Golf Course beginning at 4PM
X-ALT-DESC;FMTTYPE=text/html:<div class="m8h3af8h l7ghb35v kjdc1dyq kmwttqpk gh25dzvf" style="overflow-wrap: break-word\; margin: 0px\; font-family: &quot\;Segoe UI Historic&quot\;\, &quot\;Segoe UI&quot\;\, Helvetica\, Arial\, sans-serif\; color: rgb(5\, 5\, 5)\; font-size: 15px\;">&ldquo\;Trick or Treat in the Heat&rdquo\; is back at Settlers Bay Wasilla! The event will be held on Sunday\, September 10th&nbsp\;from 4PM to 8PM. The sendoff will be at the Albatross at Settlers Bay Golf Course beginning at 4PM</div>\n
LOCATION:Settlers Bay Golf Course & Neighborhood 7307 S. Frontier Drive. Wasilla\, AK
UID:e.3185.20917
SEQUENCE:3
DTSTAMP:20260425T104047Z
URL:http://business.wasillachamber.org/events/details/trick-or-treat-in-the-heat-at-settlers-bay-20917
END:VEVENT

END:VCALENDAR
