BEGIN:VCALENDAR
VERSION:2.0
PRODID:-//ChamberMaster//Event Calendar 2.0//EN
METHOD:PUBLISH
X-PUBLISHED-TTL:P3D
REFRESH-INTERVAL:P3D
CALSCALE:GREGORIAN
BEGIN:VEVENT
DTSTART:20201101T030000Z
DTEND:20201101T070000Z
X-MICROSOFT-CDO-ALLDAYEVENT:FALSE
SUMMARY:Trichtober Fest
DESCRIPTION:Check out this 21+ event on Saturday\, Halloween Night!\n\nCome pre-game\, give yourself a break\, or just come have fun (just leave the kids at home) and check out our first. ever. TRICHTOBER FEST!\n\nThis spooky\, fun-filled event includes a mask themed costume contest\, spooky cocktails\, giant beer pong and local food truck Bar-B-Que Man!\n\n\n\nThis is a mask-required event.
X-ALT-DESC;FMTTYPE=text/html:Check out this 21+ event on Saturday\, Halloween Night!<br />\nCome pre-game\, give yourself a break\, or just come have fun (just leave the kids at home) and check out our first. ever. TRICHTOBER FEST!<br />\nThis spooky\, fun-filled event includes a mask themed costume contest\, spooky cocktails\, giant beer pong and local food truck Bar-B-Que Man!<br />\n<br />\nThis is a mask-required event.
LOCATION:The Menard 1001 S. Clapp St. Wasilla\, AK 99654
UID:e.3185.9656
SEQUENCE:3
DTSTAMP:20260426T013316Z
URL:http://business.wasillachamber.org/events/details/trichtober-fest-9656
END:VEVENT

END:VCALENDAR
