BEGIN:VCALENDAR
VERSION:2.0
PRODID:-//ChamberMaster//Event Calendar 2.0//EN
METHOD:PUBLISH
X-PUBLISHED-TTL:P3D
REFRESH-INTERVAL:P3D
CALSCALE:GREGORIAN
BEGIN:VEVENT
DTSTART:20240406T220000Z
DTEND:20240407T000000Z
X-MICROSOFT-CDO-ALLDAYEVENT:FALSE
SUMMARY:The Play That Goes Wrong
DESCRIPTION:This Olivier Award winning comedy is a hilarious hybrid of Monty Python and Sherlock Holmes. Welcome to opening night of The Murder at Haversham Manor where things are quickly going from bad to utterly disastrous. With an unconscious leading lady\, a corpse that can't play dead\, and actors who trip over everything (including their lines)\, it's "A RIOTOUS EXPLOSION OF COMEDY!"
X-ALT-DESC;FMTTYPE=text/html:<span style="color: rgb(59\, 69\, 74)\; font-family: Poppins\, Helvetica\, sans-serif\; font-size: 14px\; background-color: rgb(255\, 255\, 255)\;">This Olivier Award winning comedy is a hilarious hybrid of Monty Python and Sherlock Holmes. Welcome to opening night of The Murder at Haversham Manor where things are quickly going from bad to utterly disastrous. With an unconscious leading lady\, a corpse that can&rsquo\;t play dead\, and actors who trip over everything (including their lines)\, it&rsquo\;s &ldquo\;A RIOTOUS EXPLOSION OF COMEDY!&rdquo\;</span>
LOCATION:Glenn Massay Theater
UID:e.3185.21364
SEQUENCE:3
DTSTAMP:20260421T082651Z
URL:http://business.wasillachamber.org/events/details/the-play-that-goes-wrong-21364
END:VEVENT

END:VCALENDAR
