BEGIN:VCALENDAR
VERSION:2.0
PRODID:-//ChamberMaster//Event Calendar 2.0//EN
METHOD:PUBLISH
X-PUBLISHED-TTL:P3D
REFRESH-INTERVAL:P3D
CALSCALE:GREGORIAN
BEGIN:VEVENT
DTSTART:20220625T160000Z
DTEND:20220625T200000Z
X-MICROSOFT-CDO-ALLDAYEVENT:FALSE
SUMMARY:The Children's Place 4th Annual Charity Golf Tournament
DESCRIPTION:Please join The Children's Place on Saturday\, June 25\, 2022\, at Settler's Bay Golf Course for The Children's Place's Fourth annual charity golf tournament presented by First Rate Financial.\n\nVisit our website www.Golf4OurKids.Org to purchase your teams and become a sponsor and Golf for the kids today!\n\nAll proceeds of this tournament benefit The Children's Place\, The Children's Place provides a child-friendly\, safe and neutral location in which law enforcement and Child Protective Services investigators may conduct and observe forensic interviews with children who are alleged victims of crimes\, and where the child and non-offending family members receive support\, crisis intervention and referrals for mental health and medical treatment.
X-ALT-DESC;FMTTYPE=text/html:<span style="color: rgb(5\, 5\, 5)\; font-family: &quot\;Segoe UI Historic&quot\;\, &quot\;Segoe UI&quot\;\, Helvetica\, Arial\, sans-serif\; font-size: 15px\;">Please join The Children&rsquo\;s Place on Saturday\, June 25\, 2022\, at Settler&rsquo\;s Bay Golf Course for The Children&rsquo\;s Place&rsquo\;s Fourth annual charity golf tournament presented by First Rate Financial.</span><br style="color: rgb(5\, 5\, 5)\; font-family: &quot\;Segoe UI Historic&quot\;\, &quot\;Segoe UI&quot\;\, Helvetica\, Arial\, sans-serif\; font-size: 15px\;" />\n<span style="color: rgb(5\, 5\, 5)\; font-family: &quot\;Segoe UI Historic&quot\;\, &quot\;Segoe UI&quot\;\, Helvetica\, Arial\, sans-serif\; font-size: 15px\;">Visit our website&nbsp\;</span><a class="oajrlxb2 g5ia77u1 qu0x051f esr5mh6w e9989ue4 r7d6kgcz rq0escxv nhd2j8a9 nc684nl6 p7hjln8o kvgmc6g5 cxmmr5t8 oygrvhab hcukyx3x jb3vyjys rz4wbd8a qt6c0cv9 a8nywdso i1ao9s8h esuyzwwr f1sip0of lzcic4wl gpro0wi8 py34i1dx" href="http://www.golf4ourkids.org/?fbclid=IwAR3xxxdCnqcqdFjP2kIaA2Lb_AqI5nPg2kapHhm2mi-WLtsEh-1JMvTgNFk" rel="nofollow noopener" role="link" style="color: var(--blue-link)\; cursor: pointer\; text-decoration-line: none\; outline: none\; list-style: none\; border-width: 0px\; border-style: initial\; border-color: initial\; padding: 0px\; margin: 0px\; touch-action: manipulation\; display: inline\; -webkit-tap-highlight-color: transparent\; box-sizing: border-box\; font-family: &quot\;Segoe UI Historic&quot\;\, &quot\;Segoe UI&quot\;\, Helvetica\, Arial\, sans-serif\; font-size: 15px\;" tabindex="0" target="_blank">www.Golf4OurKids.Org</a><span style="color: rgb(5\, 5\, 5)\; font-family: &quot\;Segoe UI Historic&quot\;\, &quot\;Segoe UI&quot\;\, Helvetica\, Arial\, sans-serif\; font-size: 15px\;">&nbsp\;to purchase your teams and become a sponsor and Golf for the kids today!</span><br style="color: rgb(5\, 5\, 5)\; font-family: &quot\;Segoe UI Historic&quot\;\, &quot\;Segoe UI&quot\;\, Helvetica\, Arial\, sans-serif\; font-size: 15px\;" />\n<span style="color: rgb(5\, 5\, 5)\; font-family: &quot\;Segoe UI Historic&quot\;\, &quot\;Segoe UI&quot\;\, Helvetica\, Arial\, sans-serif\; font-size: 15px\;">All proceeds of this tournament benefit The Children&rsquo\;s Place\, The Children&rsquo\;s Place provides a child-friendly\, safe and neutral location in which law enforcement and Child Protective Services investigators may conduct and observe forensic interviews with children who are alleged victims of crimes\, and where the child and non-offending family members receive support\, crisis intervention and referrals for mental health and medical treatment.</span>
LOCATION:Settlers Bay Golf Course 7307 S. Frontier Dr.
UID:e.3185.16697
SEQUENCE:3
DTSTAMP:20260423T022334Z
URL:http://business.wasillachamber.org/events/details/the-children-s-place-4th-annual-charity-golf-tournament-16697
END:VEVENT

END:VCALENDAR
