BEGIN:VCALENDAR
VERSION:2.0
PRODID:-//ChamberMaster//Event Calendar 2.0//EN
METHOD:PUBLISH
X-PUBLISHED-TTL:P3D
REFRESH-INTERVAL:P3D
CALSCALE:GREGORIAN
BEGIN:VEVENT
DTSTART:20220410T010000Z
DTEND:20220410T030000Z
X-MICROSOFT-CDO-ALLDAYEVENT:FALSE
SUMMARY:The Children's Place 21st Annual Gala Charity Fundraiser
DESCRIPTION:"Join us for The Children's Place Gala\, Saturday\, April 9\, 2022\, at Raven Hall.\n\n \n\nAs a guest at this event\, you'll enjoy a Latin dance show\, Cuban-inspired dinner\, live and silent auctions\, and many fun games.\n\nYou'll also have the opportunity to hear guest speakers from The Children's Place talk about our work in the Mat-Su Valley.\n\n \n\nAll proceeds from this event will benefit The Children's Place\, where families never receive a bill for services provided.\n\n \n\nIf you are interested in volunteering with The Children's Place Gala Committee please call our office at (907) 357-5157.\n\nThe Children's Place is currently seeking donations for our auction\, and underwriters for the Gala event.\n\nPlease download one of our forms below\, complete the form and email it to administrative@tcpak.org"
X-ALT-DESC;FMTTYPE=text/html:<p class="font_8" style="margin: 0px\; padding: 0px\; border: 0px\; outline: 0px\; vertical-align: baseline\; background: transparent\; pointer-events: auto\; font-size: 18px\; line-height: normal\; color: rgb(var(--color_14))\; text-align: center\;"><span style="margin: 0px\; padding: 0px\; border: 0px\; outline: 0px\; vertical-align: baseline\; background: transparent\; font-weight: bold\;"><span style="margin: 0px\; padding: 0px\; border: 0px\; outline: 0px\; vertical-align: baseline\; background: transparent\;"><span style="margin: 0px\; padding: 0px\; border: 0px\; outline: 0px\; vertical-align: baseline\; background: transparent\; font-family: didot-w01-italic\, didot-w05-italic\, serif\;"><span style="margin: 0px\; padding: 0px\; border: 0px\; outline: 0px\; vertical-align: baseline\; background: transparent\; color: rgb(0\, 0\, 0)\;">&quot\;Join us for The Children&#39\;s Place Gala\, Saturday\, April 9\, 2022\, at Raven Hall.</span></span></span></span></p>\n\n<p class="font_8" style="margin: 0px\; padding: 0px\; border: 0px\; outline: 0px\; vertical-align: baseline\; background: transparent\; pointer-events: auto\; font-size: 18px\; line-height: normal\; color: rgb(var(--color_14))\; text-align: center\;"><span style="margin: 0px\; padding: 0px\; border: 0px\; outline: 0px\; vertical-align: baseline\; background: transparent\;"><span style="margin: 0px\; padding: 0px\; border: 0px\; outline: 0px\; vertical-align: baseline\; background: transparent\; font-family: didot-w01-italic\, didot-w05-italic\, serif\;"><span style="margin: 0px\; padding: 0px\; border: 0px\; outline: 0px\; vertical-align: baseline\; background: transparent\; color: rgb(0\, 0\, 0)\;">&#8203\;</span></span></span></p>\n\n<p class="font_8" style="margin: 0px\; padding: 0px\; border: 0px\; outline: 0px\; vertical-align: baseline\; background: transparent\; pointer-events: auto\; font-size: 18px\; line-height: normal\; color: rgb(var(--color_14))\; text-align: center\;"><span style="margin: 0px\; padding: 0px\; border: 0px\; outline: 0px\; vertical-align: baseline\; background: transparent\;"><span style="margin: 0px\; padding: 0px\; border: 0px\; outline: 0px\; vertical-align: baseline\; background: transparent\; font-family: didot-w01-italic\, didot-w05-italic\, serif\;"><span style="margin: 0px\; padding: 0px\; border: 0px\; outline: 0px\; vertical-align: baseline\; background: transparent\; color: rgb(0\, 0\, 0)\;">As a guest at this event\, you&#39\;ll enjoy a Latin dance show\, Cuban-inspired dinner\, live and silent auctions\, and many fun games.</span></span></span></p>\n\n<p class="font_8" style="margin: 0px\; padding: 0px\; border: 0px\; outline: 0px\; vertical-align: baseline\; background: transparent\; pointer-events: auto\; font-size: 18px\; line-height: normal\; color: rgb(var(--color_14))\; text-align: center\;"><span style="margin: 0px\; padding: 0px\; border: 0px\; outline: 0px\; vertical-align: baseline\; background: transparent\;"><span style="margin: 0px\; padding: 0px\; border: 0px\; outline: 0px\; vertical-align: baseline\; background: transparent\; font-family: didot-w01-italic\, didot-w05-italic\, serif\;"><span style="margin: 0px\; padding: 0px\; border: 0px\; outline: 0px\; vertical-align: baseline\; background: transparent\; color: rgb(0\, 0\, 0)\;">You&#39\;ll also have the opportunity to hear guest speakers from The Children&#39\;s Place talk about our work in the Mat-Su Valley.</span></span></span></p>\n\n<p class="font_8" style="margin: 0px\; padding: 0px\; border: 0px\; outline: 0px\; vertical-align: baseline\; background: transparent\; pointer-events: auto\; font-size: 18px\; line-height: normal\; color: rgb(var(--color_14))\; text-align: center\;"><span style="margin: 0px\; padding: 0px\; border: 0px\; outline: 0px\; vertical-align: baseline\; background: transparent\;"><span style="margin: 0px\; padding: 0px\; border: 0px\; outline: 0px\; vertical-align: baseline\; background: transparent\; font-family: didot-w01-italic\, didot-w05-italic\, serif\;"><span style="margin: 0px\; padding: 0px\; border: 0px\; outline: 0px\; vertical-align: baseline\; background: transparent\; color: rgb(0\, 0\, 0)\;">&#8203\;</span></span></span></p>\n\n<p class="font_8" style="margin: 0px\; padding: 0px\; border: 0px\; outline: 0px\; vertical-align: baseline\; background: transparent\; pointer-events: auto\; font-size: 18px\; line-height: normal\; color: rgb(var(--color_14))\; text-align: center\;"><span style="margin: 0px\; padding: 0px\; border: 0px\; outline: 0px\; vertical-align: baseline\; background: transparent\;"><span style="margin: 0px\; padding: 0px\; border: 0px\; outline: 0px\; vertical-align: baseline\; background: transparent\; font-family: didot-w01-italic\, didot-w05-italic\, serif\;"><span style="margin: 0px\; padding: 0px\; border: 0px\; outline: 0px\; vertical-align: baseline\; background: transparent\; color: rgb(0\, 0\, 0)\;">All proceeds from this event will benefit The Children&#39\;s Place\, where families never receive a bill for services provided.</span></span></span></p>\n\n<p class="font_8" style="margin: 0px\; padding: 0px\; border: 0px\; outline: 0px\; vertical-align: baseline\; background: transparent\; pointer-events: auto\; font-size: 18px\; line-height: normal\; color: rgb(var(--color_14))\; text-align: center\;"><span style="margin: 0px\; padding: 0px\; border: 0px\; outline: 0px\; vertical-align: baseline\; background: transparent\;"><span style="margin: 0px\; padding: 0px\; border: 0px\; outline: 0px\; vertical-align: baseline\; background: transparent\; font-family: didot-w01-italic\, didot-w05-italic\, serif\;"><span style="margin: 0px\; padding: 0px\; border: 0px\; outline: 0px\; vertical-align: baseline\; background: transparent\; color: rgb(0\, 0\, 0)\;">&#8203\;</span></span></span></p>\n\n<p class="font_8" style="margin: 0px\; padding: 0px\; border: 0px\; outline: 0px\; vertical-align: baseline\; background: transparent\; pointer-events: auto\; font-size: 18px\; line-height: normal\; color: rgb(var(--color_14))\; text-align: center\;"><span style="margin: 0px\; padding: 0px\; border: 0px\; outline: 0px\; vertical-align: baseline\; background: transparent\;"><span style="margin: 0px\; padding: 0px\; border: 0px\; outline: 0px\; vertical-align: baseline\; background: transparent\; color: rgb(0\, 0\, 0)\; font-family: didot-w01-italic\, didot-w05-italic\, serif\;">If you are interested in volunteering with The Children&#39\;s Place Gala Committee please call our office at (907) 357-5157.</span></span></p>\n\n<p class="font_8" style="margin: 0px\; padding: 0px\; border: 0px\; outline: 0px\; vertical-align: baseline\; background: transparent\; pointer-events: auto\; font-size: 18px\; line-height: normal\; color: rgb(var(--color_14))\; text-align: center\;"><span style="margin: 0px\; padding: 0px\; border: 0px\; outline: 0px\; vertical-align: baseline\; background: transparent\;"><span style="margin: 0px\; padding: 0px\; border: 0px\; outline: 0px\; vertical-align: baseline\; background: transparent\; color: rgb(0\, 0\, 0)\; font-family: didot-w01-italic\, didot-w05-italic\, serif\;">The Children&#39\;s Place is currently seeking donations for our auction\, and underwriters for the Gala event.</span></span></p>\n\n<p class="font_8" style="margin: 0px\; padding: 0px\; border: 0px\; outline: 0px\; vertical-align: baseline\; background: transparent\; pointer-events: auto\; font-size: 18px\; line-height: normal\; color: rgb(var(--color_14))\; text-align: center\;"><span style="margin: 0px\; padding: 0px\; border: 0px\; outline: 0px\; vertical-align: baseline\; background: transparent\;"><span style="margin: 0px\; padding: 0px\; border: 0px\; outline: 0px\; vertical-align: baseline\; background: transparent\; color: rgb(0\, 0\, 0)\; font-family: didot-w01-italic\, didot-w05-italic\, serif\;">Please download one of our forms below\, complete the form and email it to&nbsp\;<a data-auto-recognition="true" href="mailto:administrative@tcpak.org" style="margin: 0px\; padding: 0px\; border: 0px\; outline: 0px\; vertical-align: baseline\; background: transparent\; cursor: pointer\; text-decoration-line: none\; color: inherit\;">administrative@tcpak.org</a>&quot\;</span></span></p>\n
LOCATION:Raven Hall at the Alaska State Fairgrounds 2075 Glenn Hwy Palmer\, AK 99645
UID:e.3185.16159
SEQUENCE:3
DTSTAMP:20260419T123240Z
URL:http://business.wasillachamber.org/events/details/the-children-s-place-21st-annual-gala-charity-fundraiser-16159
END:VEVENT

END:VCALENDAR
