BEGIN:VCALENDAR
VERSION:2.0
PRODID:-//ChamberMaster//Event Calendar 2.0//EN
METHOD:PUBLISH
X-PUBLISHED-TTL:P3D
REFRESH-INTERVAL:P3D
CALSCALE:GREGORIAN
BEGIN:VEVENT
DTSTART:20210803T233000Z
DTEND:20210804T003000Z
X-MICROSOFT-CDO-ALLDAYEVENT:FALSE
SUMMARY:Summer Learn to Skate
DESCRIPTION:Summer Learn to Skate Program\n\nLearn invaluable ice-skating skills for Recreation or Hockey students! (minimum of 4 students for hockey)\n\nRegister online here
X-ALT-DESC;FMTTYPE=text/html:Summer Learn to Skate Program<br />\nLearn invaluable ice-skating skills for Recreation or Hockey students! (minimum of 4 students for hockey)<br />\nRegister online <a href="http://menardcenter.maxgalaxy.net">here</a>
LOCATION:The Menard Sports & Events Center 1001 S Clapp St\, Wasilla\, AK 99654
UID:e.3185.14137
SEQUENCE:3
DTSTAMP:20260422T073741Z
URL:http://business.wasillachamber.org/events/details/summer-learn-to-skate-14137
END:VEVENT

END:VCALENDAR
