BEGIN:VCALENDAR
VERSION:2.0
PRODID:-//ChamberMaster//Event Calendar 2.0//EN
METHOD:PUBLISH
X-PUBLISHED-TTL:P3D
REFRESH-INTERVAL:P3D
CALSCALE:GREGORIAN
BEGIN:VEVENT
DTSTART:20210205T200000Z
DTEND:20210205T210000Z
X-MICROSOFT-CDO-ALLDAYEVENT:FALSE
SUMMARY:Streaming 101 with MTA
DESCRIPTION:Don't let cable throw you an interception! Be the champion and stream the game. Join us Friday\, February 5 at 11 am for a play-by-play of Streaming 101\, including how it works\, live TV options\, why internet bandwidth is the MVP of streaming and more.\n\n\n\nYou don't need to be a customer to join this free webinar. Oh\, and we are giving away a smart TV too!\n\nLearn more and register: https://bit.ly/3t99Sdx
X-ALT-DESC;FMTTYPE=text/html:<div class="kvgmc6g5 cxmmr5t8 oygrvhab hcukyx3x c1et5uql ii04i59q" style="overflow-wrap: break-word\; margin: 0px\; white-space: pre-wrap\; font-family: &quot\;Segoe UI Historic&quot\;\, &quot\;Segoe UI&quot\;\, Helvetica\, Arial\, sans-serif\; color: rgb(5\, 5\, 5)\; font-size: 15px\;">\n<div dir="auto" style="font-family: inherit\;">Don&rsquo\;t let cable throw you an interception! Be the champion and stream the game. Join us Friday\, February 5 at 11 am for a play-by-play of Streaming 101\, including how it works\, live TV options\, why internet bandwidth is the MVP of streaming and more.</div>\n</div>\n\n<div class="o9v6fnle cxmmr5t8 oygrvhab hcukyx3x c1et5uql ii04i59q" style="overflow-wrap: break-word\; margin: 0.5em 0px 0px\; white-space: pre-wrap\; font-family: &quot\;Segoe UI Historic&quot\;\, &quot\;Segoe UI&quot\;\, Helvetica\, Arial\, sans-serif\; color: rgb(5\, 5\, 5)\; font-size: 15px\;">\n<div dir="auto" style="font-family: inherit\;">You don&rsquo\;t need to be a customer to join this free webinar.<strong> Oh\, and we are giving away a smart TV too!</strong><br />\nLearn more and register: <span style="font-family: inherit\;"><a class="oajrlxb2 g5ia77u1 qu0x051f esr5mh6w e9989ue4 r7d6kgcz rq0escxv nhd2j8a9 nc684nl6 p7hjln8o kvgmc6g5 cxmmr5t8 oygrvhab hcukyx3x jb3vyjys rz4wbd8a qt6c0cv9 a8nywdso i1ao9s8h esuyzwwr f1sip0of lzcic4wl py34i1dx gpro0wi8" href="https://l.facebook.com/l.php?u=https%3A%2F%2Fbit.ly%2F3t99Sdx%3Ffbclid%3DIwAR0H0xSCeqYR9yhXApuRiZrqJtvhjyxDwjWd-msXJncZh4YHer1UQArSgf0&amp\;h=AT3dLUhzI1QHycTUmhw6QjlYWKSmZ-8WXUNQq8mRAS5ZdQffVZaIRISzGnpZS1P1Br11JFSW5VCz6N-QZE6NTeakSD9Jii4Iw9TDP5ypZgETqe7dpK8vntGzFJAQy6gKmQ&amp\;__tn__=-UK-R&amp\;c[0]=AT2PAYmqDaNvzjuoB0gDczPimmIrQ1DIVxBz9uze2Ii81YcVkI2-Ztb9Ix7SNo7DTZUpRTLe2EyNpaxmWcZagTwWC-pYBjo68gja_mOzSs381EudkDz4rdPne8CYO8nbmqkKJxAKuq3XdTyhvzz-aHxCvXX_C5xEKnrbEluBvftZYs4" rel="nofollow noopener" role="link" style="color: var(--blue-link)\; cursor: pointer\; text-decoration-line: none\; outline: none\; list-style: none\; border-width: 0px\; border-style: initial\; border-color: initial\; padding: 0px\; margin: 0px\; touch-action: manipulation\; background-color: transparent\; text-align: inherit\; display: inline\; -webkit-tap-highlight-color: transparent\; box-sizing: border-box\; font-family: inherit\;" tabindex="0" target="_blank">https://bit.ly/3t99Sdx</a></span></div>\n</div>\n
LOCATION:Online
UID:e.3185.10694
SEQUENCE:3
DTSTAMP:20260423T210134Z
URL:http://business.wasillachamber.org/events/details/streaming-101-with-mta-10694
END:VEVENT

END:VCALENDAR
