BEGIN:VCALENDAR
VERSION:2.0
PRODID:-//ChamberMaster//Event Calendar 2.0//EN
METHOD:PUBLISH
X-PUBLISHED-TTL:P3D
REFRESH-INTERVAL:P3D
CALSCALE:GREGORIAN
BEGIN:VEVENT
DTSTART:20210303T190000Z
DTEND:20210303T200000Z
X-MICROSOFT-CDO-ALLDAYEVENT:FALSE
SUMMARY:State Training and Employment Program Teleconference - EGrAMS Application Questions
DESCRIPTION:The Alaska Workforce Investment Board (AWIB) requests grant applications for training projects in priority industries under the State Training and Employment Program. STEP is funded by a percentage of the Unemployment Insurance Trust Fund and is appropriated by the Alaska State Legislature.\n\nThe purpose of STEP is to enhance the quality and accessibility of in-state training and employment services for Alaska residents. STEP seeks to increase resident employment in industries where a high number of nonresidents are working\, reduce future unemployment claims\, and foster economic growth in all regions by meeting employer demand for a skilled workforce.\n\nThe attached Request for Grant Applications (RGA) includes additional detailed information regarding this solicitation. \n\nTwo Microsoft Teams teleconferences will be held to answer questions about the STEP program\, this RGA\, and the application process. Applications must be entered in the Electronic Grants Administration System (EGrAMS).\n\n\n\nThe deadline for submission of grant applications is Friday\, March 12\, 2021 by 5:00 p.m.
X-ALT-DESC;FMTTYPE=text/html:<p style="margin: 15px 0px 0px\; padding: 0px 0px 10px\; font-family: &quot\;Lucida Sans&quot\;\, Lato\, Helvetica\, Arial\, sans-serif\;">The Alaska Workforce Investment Board (AWIB) requests grant applications for training projects in priority industries under the State Training and Employment Program. STEP is funded by a percentage of the Unemployment Insurance Trust Fund and is appropriated by the Alaska State Legislature.</p>\n\n<p style="margin: 15px 0px 0px\; padding: 0px 0px 10px\; font-family: &quot\;Lucida Sans&quot\;\, Lato\, Helvetica\, Arial\, sans-serif\;">The purpose of STEP is to enhance the quality and accessibility of in-state training and employment services for Alaska residents. STEP seeks to increase resident employment in industries where a high number of nonresidents are working\, reduce future unemployment claims\, and foster economic growth in all regions by meeting employer demand for a skilled workforce.</p>\n\n<p style="margin: 15px 0px 0px\; padding: 0px 0px 10px\; font-family: &quot\;Lucida Sans&quot\;\, Lato\, Helvetica\, Arial\, sans-serif\;">The attached Request for Grant Applications (RGA) includes additional detailed information regarding this solicitation.&nbsp\;</p>\n\n<p style="margin: 15px 0px 0px\; padding: 0px 0px 10px\; font-family: &quot\;Lucida Sans&quot\;\, Lato\, Helvetica\, Arial\, sans-serif\;">Two Microsoft Teams teleconferences will be held to answer questions about the STEP program\, this RGA\, and the application process. Applications must be entered in the&nbsp\;<strong style="margin: 0px\; padding: 0px\;">E</strong>lectronic&nbsp\;<strong style="margin: 0px\; padding: 0px\;">G</strong>rants&nbsp\;<strong style="margin: 0px\; padding: 0px\;">A</strong>dministration&nbsp\;<strong style="margin: 0px\; padding: 0px\;">S</strong>ystem (EGrAMS).<br />\n<br />\n<span style="font-family: &quot\;Lucida Sans&quot\;\, Lato\, Helvetica\, Arial\, sans-serif\;">The deadline for submission of grant applications is&nbsp\;</span><strong style="margin: 0px\; padding: 0px\; font-family: &quot\;Lucida Sans&quot\;\, Lato\, Helvetica\, Arial\, sans-serif\;">Friday\, March 12\, 2021 by 5:00 p.m</strong><span style="font-family: &quot\;Lucida Sans&quot\;\, Lato\, Helvetica\, Arial\, sans-serif\;">.</span></p>\n
LOCATION:Microsoft Teams Click here to join meeting Conference Telephone: 907-202-7104 Conference ID: 143458943#
UID:e.3185.10687
SEQUENCE:3
DTSTAMP:20260424T100355Z
URL:http://business.wasillachamber.org/events/details/state-training-and-employment-program-teleconference-egrams-application-questions-10687
END:VEVENT

END:VCALENDAR
