BEGIN:VCALENDAR
VERSION:2.0
PRODID:-//ChamberMaster//Event Calendar 2.0//EN
METHOD:PUBLISH
X-PUBLISHED-TTL:P3D
REFRESH-INTERVAL:P3D
CALSCALE:GREGORIAN
BEGIN:VEVENT
DTSTART:20240402T193000Z
DTEND:20240402T210000Z
X-MICROSOFT-CDO-ALLDAYEVENT:FALSE
SUMMARY:State of the City of Wasilla Luncheon
DESCRIPTION:Join us for the 2024 State of the City of Wasilla Luncheon!\n\n\n\nMake your plans now to join the Wasilla Chamber of Commerce as we host the 2024 State of the City of Wasilla!\n\nMayor Ledford will give us an overview of the City\, successes and challenges\, upcoming important dates and events\, and City goals for the future\; We will hear updates and impacts from the City Directors\, including Public Works\, Planning\, Chief of Police\, Finance\, and the Deputy Administrator. \n\n\n\nThe State of the City will be held downstairs in the banquet room at Evangelo's Restaurant.\n\n\n\n***Advanced Registration is Required for this luncheon***\n\n\n\n\n\n*********\n\nIf you are interested in speaking at one of our Chamber Luncheons\, please email Jessica detailing who you are\, your company\, and what you would like to speak about.\n\n\n\nOur luncheons are hosted at Evangelo's Restaurant in Wasilla on the 1st and 3rd Tuesday of each month\, unless otherwise noted.\n\n\n\nCheck in begins at 11:30AM\, program begins at 12PM and ends at 1PM.\n\n\n\nIf you would like to donate anything to the door prizes\, don't forget to bring them along!
X-ALT-DESC;FMTTYPE=text/html:<span style="border: 0px\; margin: 0px\; padding: 0px\; box-sizing: border-box\; font-size: 17px\; font-weight: 700\; font-family: arial\;"><span style="border: none\; margin: 0px\; padding: 0px\; box-sizing: content-box\; inset: auto\; clear: none\; content: normal\; direction: inherit\; empty-cells: show\; font-style: inherit\; font-variant: inherit\; font-weight: bolder\; font-stretch: inherit\; font-size: 18px\; letter-spacing: inherit\; line-height: inherit\; max-height: none\; max-width: none\; min-height: initial\; min-width: initial\; opacity: 1\; outline-offset: 0px\; overflow: visible\; position: static\; resize: none\; table-layout: auto\; text-align: inherit\; text-indent: inherit\; text-overflow: clip\; text-transform: inherit\; vertical-align: baseline\; visibility: inherit\; white-space: inherit\; word-break: inherit\; word-spacing: inherit\; overflow-wrap: inherit\; z-index: auto\; background-image: none\; background-position: initial\; background-size: initial\; background-repeat: initial\; background-attachment: initial\; background-origin: initial\; background-clip: initial\; border-collapse: separate\; border-radius: 0px\; height: auto\; width: auto\; box-shadow: none\;">Join us for the 2024 State of the City of Wasilla Luncheon!<br />\n<br />\nMake your plans now to join the Wasilla Chamber of Commerce as we host the 2024 State of the City of Wasilla!<br />\nMayor Ledford will give us an overview of the City\, successes and challenges\, upcoming important dates and events\, and City goals for the future\; We will hear updates and impacts from the City Directors\, including Public Works\, Planning\, Chief of Police\, Finance\, and the Deputy Administrator.&nbsp\;</span><br />\n<br />\n<span style="border: none\; margin: 0px\; padding: 0px\; box-sizing: content-box\; inset: auto\; clear: none\; content: normal\; direction: inherit\; empty-cells: show\; font-style: inherit\; font-variant: inherit\; font-weight: bolder\; font-stretch: inherit\; font-size: 18px\; letter-spacing: inherit\; line-height: inherit\; max-height: none\; max-width: none\; min-height: initial\; min-width: initial\; opacity: 1\; outline-offset: 0px\; overflow: visible\; position: static\; resize: none\; table-layout: auto\; text-align: inherit\; text-indent: inherit\; text-overflow: clip\; text-transform: inherit\; vertical-align: baseline\; visibility: inherit\; white-space: inherit\; word-break: inherit\; word-spacing: inherit\; overflow-wrap: inherit\; z-index: auto\; background-image: none\; background-position: initial\; background-size: initial\; background-repeat: initial\; background-attachment: initial\; background-origin: initial\; background-clip: initial\; border-collapse: separate\; border-radius: 0px\; height: auto\; width: auto\; box-shadow: none\;">The State of the City will be held downstairs in the banquet room at Evangelo&#39\;s Restaurant.</span></span><br />\n<br />\n<span style="border: 0px\; margin: 0px\; padding: 0px\; box-sizing: border-box\; font-size: 17px\; font-weight: 700\; font-family: arial\;"><span style="border: none\; margin: 0px\; padding: 0px\; box-sizing: content-box\; inset: auto\; clear: none\; content: normal\; direction: inherit\; empty-cells: show\; font-style: inherit\; font-variant: inherit\; font-weight: bolder\; font-stretch: inherit\; font-size: 18px\; letter-spacing: inherit\; line-height: inherit\; max-height: none\; max-width: none\; min-height: initial\; min-width: initial\; opacity: 1\; outline-offset: 0px\; overflow: visible\; position: static\; resize: none\; table-layout: auto\; text-align: inherit\; text-indent: inherit\; text-overflow: clip\; text-transform: inherit\; vertical-align: baseline\; visibility: inherit\; white-space: inherit\; word-break: inherit\; word-spacing: inherit\; overflow-wrap: inherit\; z-index: auto\; background-image: none\; background-position: initial\; background-size: initial\; background-repeat: initial\; background-attachment: initial\; background-origin: initial\; background-clip: initial\; border-collapse: separate\; border-radius: 0px\; height: auto\; width: auto\; box-shadow: none\;">***Advanced Registration is <span style="color:#FF0000\;">Required</span> for this luncheon***</span><br style="box-sizing: content-box\; color: inherit\; font: inherit\; letter-spacing: inherit\; text-align: inherit\; text-indent: inherit\; text-transform: inherit\; white-space: inherit\; word-spacing: inherit\; inset: auto\; clear: none\; content: normal\; direction: inherit\; display: inline\; empty-cells: show\; float: none\; margin: 0px\; max-height: none\; max-width: none\; min-height: initial\; min-width: initial\; opacity: 1\; outline-offset: 0px\; overflow: visible\; padding: 0px\; position: static\; resize: none\; table-layout: auto\; text-overflow: clip\; vertical-align: baseline\; visibility: inherit\; word-break: inherit\; overflow-wrap: inherit\; z-index: auto\; background-image: none\; background-position: initial\; background-size: initial\; background-repeat: initial\; background-attachment: initial\; background-origin: initial\; background-clip: initial\; border: none\; border-collapse: separate\; border-radius: 0px\; height: auto\; width: auto\;" />\n<br />\n<br />\n*********<br style="box-sizing: content-box\; color: inherit\; font: inherit\; letter-spacing: inherit\; text-align: inherit\; text-indent: inherit\; text-transform: inherit\; white-space: inherit\; word-spacing: inherit\; inset: auto\; clear: none\; content: normal\; direction: inherit\; display: inline\; empty-cells: show\; float: none\; margin: 0px\; max-height: none\; max-width: none\; min-height: initial\; min-width: initial\; opacity: 1\; outline-offset: 0px\; overflow: visible\; padding: 0px\; position: static\; resize: none\; table-layout: auto\; text-overflow: clip\; vertical-align: baseline\; visibility: inherit\; word-break: inherit\; overflow-wrap: inherit\; z-index: auto\; background-image: none\; background-position: initial\; background-size: initial\; background-repeat: initial\; background-attachment: initial\; background-origin: initial\; background-clip: initial\; border: none\; border-collapse: separate\; border-radius: 0px\; height: auto\; width: auto\;" />\n<span style="border: 0px\; margin: 0px\; padding: 0px\; box-sizing: border-box\; font-size: 18px\;">If you are interested in speaking at one of our Chamber Luncheons\, please</span><span style="border: none\; margin: 0px\; padding: 0px\; box-sizing: content-box\; inset: auto\; clear: none\; content: normal\; direction: inherit\; empty-cells: show\; font-style: inherit\; font-variant: inherit\; font-weight: bolder\; font-stretch: inherit\; font-size: 18px\; letter-spacing: inherit\; line-height: inherit\; max-height: none\; max-width: none\; min-height: initial\; min-width: initial\; opacity: 1\; outline-offset: 0px\; overflow: visible\; position: static\; resize: none\; table-layout: auto\; text-align: inherit\; text-indent: inherit\; text-overflow: clip\; text-transform: inherit\; vertical-align: baseline\; visibility: inherit\; white-space: inherit\; word-break: inherit\; word-spacing: inherit\; overflow-wrap: inherit\; z-index: auto\; background-image: none\; background-position: initial\; background-size: initial\; background-repeat: initial\; background-attachment: initial\; background-origin: initial\; background-clip: initial\; border-collapse: separate\; border-radius: 0px\; height: auto\; width: auto\; box-shadow: none\;">&nbsp\;<a href="mailto:jessica@wasillachamber.org" style="border: none\; margin: 0px\; padding: 0px\; background: none\; transition: color 0.1s ease-in-out 0s\, background-color 0.1s ease-in-out 0s\; text-decoration-line: none\; color: rgb(178\, 5\, 0)\; box-sizing: content-box\; overflow-wrap: break-word\; inset: auto\; clear: none\; content: normal\; direction: inherit\; display: inline\; empty-cells: show\; float: none\; font: inherit\; letter-spacing: inherit\; max-height: none\; max-width: none\; min-height: initial\; min-width: initial\; opacity: 1\; outline-offset: 0px\; overflow: visible\; position: static\; resize: none\; table-layout: auto\; text-align: inherit\; text-indent: inherit\; text-overflow: clip\; text-transform: inherit\; vertical-align: baseline\; visibility: inherit\; white-space: inherit\; word-break: inherit\; word-spacing: inherit\; z-index: auto\; border-collapse: separate\; border-radius: 0px\; height: auto\; width: auto\; box-shadow: none\;">email Jessica</a>&nbsp\;</span></span><font face="arial\, sans-serif" style="border: 0px\; margin: 0px\; padding: 0px\; box-sizing: border-box\; font-size: 17px\; font-weight: 700\;"><span style="border: none\; margin: 0px\; padding: 0px\; box-sizing: content-box\; inset: auto\; clear: none\; content: normal\; direction: inherit\; empty-cells: show\; font-style: inherit\; font-variant: inherit\; font-weight: inherit\; font-stretch: inherit\; font-size: 18px\; font-family: inherit\; letter-spacing: inherit\; line-height: inherit\; max-height: none\; max-width: none\; min-height: initial\; min-width: initial\; opacity: 1\; outline-offset: 0px\; overflow: visible\; position: static\; resize: none\; table-layout: auto\; text-align: inherit\; text-indent: inherit\; text-overflow: clip\; text-transform: inherit\; vertical-align: baseline\; visibility: inherit\; white-space: inherit\; word-break: inherit\; word-spacing: inherit\; overflow-wrap: inherit\; z-index: auto\; background: none\; border-collapse: separate\; border-radius: 0px\; height: auto\; width: auto\; box-shadow: none\;"><span style="border: none\; margin: 0px\; padding: 0px\; box-sizing: content-box\; inset: auto\; clear: none\; content: normal\; direction: inherit\; empty-cells: show\; font-style: inherit\; font-variant: inherit\; font-weight: bolder\; font-stretch: inherit\; font-size: inherit\; font-family: inherit\; letter-spacing: inherit\; line-height: inherit\; max-height: none\; max-width: none\; min-height: initial\; min-width: initial\; opacity: 1\; outline-offset: 0px\; overflow: visible\; position: static\; resize: none\; table-layout: auto\; text-align: inherit\; text-indent: inherit\; text-overflow: clip\; text-transform: inherit\; vertical-align: baseline\; visibility: inherit\; white-space: inherit\; word-break: inherit\; word-spacing: inherit\; overflow-wrap: inherit\; z-index: auto\; background: none\; border-collapse: separate\; border-radius: 0px\; height: auto\; width: auto\; box-shadow: none\;"><span style="border: 0px\; margin: 0px\; padding: 0px\; box-sizing: border-box\; font-family: arial\;">detailing who you are\, your company\, and what you would like to speak about.</span><br style="box-sizing: border-box\;" />\n<br style="box-sizing: border-box\;" />\nOur luncheons are hosted at Evangelo&#39\;s Restaurant in Wasilla on the 1st and 3rd Tuesday of each month\, unless otherwise noted.<br />\n<br style="box-sizing: border-box\;" />\nCheck in begins at 11:30AM\, program begins at 12PM and ends at 1PM.<br style="box-sizing: border-box\;" />\n<br style="box-sizing: border-box\;" />\nIf you would like to donate anything to the door prizes\, don&#39\;t forget to bring them along!</span></span></font>
LOCATION:Evangelo's Restaurant 2350 E. Parks Hwy. Wasilla\, AK 99654
UID:e.3185.21920
SEQUENCE:3
DTSTAMP:20260419T123548Z
URL:http://business.wasillachamber.org/events/details/state-of-the-city-of-wasilla-luncheon-21920
END:VEVENT

END:VCALENDAR
