BEGIN:VCALENDAR
VERSION:2.0
PRODID:-//ChamberMaster//Event Calendar 2.0//EN
METHOD:PUBLISH
X-PUBLISHED-TTL:P3D
REFRESH-INTERVAL:P3D
CALSCALE:GREGORIAN
BEGIN:VEVENT
DTSTART:20220409T203000Z
DTEND:20220410T003000Z
X-MICROSOFT-CDO-ALLDAYEVENT:FALSE
SUMMARY:Spring Wildlife Cruise with Major Marine Tours
DESCRIPTION:Witness the return of gray whales to Alaska waters on their annual 10\,000 mile migration. Join us for our first tour of the season as we cruise through Resurrection Bay to the Gulf of Alaska. In addition to gray whales\, you may also see Stellar sea lions\, sea otters\, eagles\, humpback whales and orcas.
X-ALT-DESC;FMTTYPE=text/html:Witness the return of gray whales to Alaska waters on their annual 10\,000 mile migration. Join us for our first tour of the season as we cruise through Resurrection Bay to the Gulf of Alaska. In addition to gray whales\, you may also see Stellar sea lions\, sea otters\, eagles\, humpback whales and orcas.
LOCATION:Major Marine Tours 1412 4th Ave. Seward\, AK 99664
UID:e.3185.16228
SEQUENCE:3
DTSTAMP:20260419T123213Z
URL:http://business.wasillachamber.org/events/details/spring-wildlife-cruise-with-major-marine-tours-04-09-2022-16228
END:VEVENT

END:VCALENDAR
