BEGIN:VCALENDAR
VERSION:2.0
PRODID:-//ChamberMaster//Event Calendar 2.0//EN
METHOD:PUBLISH
X-PUBLISHED-TTL:P3D
REFRESH-INTERVAL:P3D
CALSCALE:GREGORIAN
BEGIN:VEVENT
DTSTART:20210429T190000Z
DTEND:20210429T200000Z
X-MICROSOFT-CDO-ALLDAYEVENT:FALSE
SUMMARY:Spring into Primrose
DESCRIPTION:To celebrate spring being in full bloom stop by Primrose to grab a lunch of a sandwich\, chips\, dessert and a drink. \n\nPlus take home a special "Plant a Primrose" flower kit.\n\n\n\nRSVP by Monday April 26th by calling Amanda at 907-373-5500
X-ALT-DESC;FMTTYPE=text/html:To celebrate spring being in full bloom stop by Primrose to grab a lunch of a sandwich\, chips\, dessert and a drink.&nbsp\;<br />\nPlus take home a special &quot\;Plant a Primrose&quot\; flower kit.<br />\n<br />\nRSVP by Monday April 26th by calling Amanda at 907-373-5500
LOCATION:Primrose Retirement Communities 889 N. Elkhorn Dr. Wasilla\, AK 99654
UID:e.3185.13509
SEQUENCE:3
DTSTAMP:20260422T235700Z
URL:http://business.wasillachamber.org/events/details/spring-into-primrose-13509
END:VEVENT

END:VCALENDAR
