BEGIN:VCALENDAR
VERSION:2.0
PRODID:-//ChamberMaster//Event Calendar 2.0//EN
METHOD:PUBLISH
X-PUBLISHED-TTL:P3D
REFRESH-INTERVAL:P3D
CALSCALE:GREGORIAN
BEGIN:VEVENT
DTSTART:20220416T174500Z
DTEND:20220417T020000Z
X-MICROSOFT-CDO-ALLDAYEVENT:FALSE
SUMMARY:Skeetawk 4th Annual HATCHERPALOOZA
DESCRIPTION:Join us for our 4th Annual Spring Celebration!\n\nThis is a family-friendly event\, with fun springtime events such as our first ever "To the Max freestyle competition"\, Our 4th Annual Uphill/Downhill race\, Live Music\, Food Trucks\, Easter egg hunts\, kids activities\, and of course we will have the lift spinning for skiing and snowboarding!\n\nMore details about event sign-ups and timing coming soon!
X-ALT-DESC;FMTTYPE=text/html:<div class="kvgmc6g5 cxmmr5t8 oygrvhab hcukyx3x c1et5uql" style="overflow-wrap: break-word\; margin: 0px\; font-family: &quot\;Segoe UI Historic&quot\;\, &quot\;Segoe UI&quot\;\, Helvetica\, Arial\, sans-serif\; color: rgb(5\, 5\, 5)\; font-size: 15px\;">Join us for our 4th Annual Spring Celebration!<br />\nThis is a family-friendly event\, with fun springtime events such as our first ever &quot\;To the Max freestyle competition&quot\;\, Our 4th Annual Uphill/Downhill race\, Live Music\, Food Trucks\, Easter egg hunts\, kids activities\, and of course we will have the lift spinning for skiing and snowboarding!</div>\n\n<div class="cxmmr5t8 oygrvhab hcukyx3x c1et5uql o9v6fnle" style="overflow-wrap: break-word\; margin: 0.5em 0px 0px\; font-family: &quot\;Segoe UI Historic&quot\;\, &quot\;Segoe UI&quot\;\, Helvetica\, Arial\, sans-serif\; color: rgb(5\, 5\, 5)\; font-size: 15px\;">More details about event sign-ups and timing coming soon!&nbsp\;</div>\n
LOCATION:Skeetawk
UID:e.3185.16377
SEQUENCE:3
DTSTAMP:20260419T121813Z
URL:http://business.wasillachamber.org/events/details/skeetawk-4th-annual-hatcherpalooza-16377
END:VEVENT

END:VCALENDAR
