BEGIN:VCALENDAR
VERSION:2.0
PRODID:-//ChamberMaster//Event Calendar 2.0//EN
METHOD:PUBLISH
X-PUBLISHED-TTL:P3D
REFRESH-INTERVAL:P3D
CALSCALE:GREGORIAN
BEGIN:VEVENT
DTSTART;VALUE=DATE:20210408
DTEND;VALUE=DATE:20210409
TRANSP:TRANSPARENT
X-MICROSOFT-CDO-ALLDAYEVENT:TRUE
SUMMARY:Shuttered Venue Operators Grant Opens Applications
DESCRIPTION:The Shuttered Venue Operators Grant (SVOG) program was established by the Economic Aid to Hard-Hit Small Businesses\, Nonprofits\, and Venues Act\, and amended by the American Rescue Plan Act.\n\nThe program includes over $16 billion in grants to shuttered venues\, to be administered by SBA's Office of Disaster Assistance.\n\nEligible applicants may qualify for grants equal to 45% of their gross earned revenue\, with the maximum amount available for a single grant award of $10 million. $2 billion is reserved for eligible applications with up to 50 full-time employees.\n\nEligible entities include:\n\n\n	Live venue operators or promoters\n	Theatrical producers\n	Live performing arts organization operators\n	Relevant museum operators\, zoos and aquariums who meet specific criteria\n	Motion picture theater operators\n	Talent representatives\n	Each business entity owned by an eligible entity that also meets the eligibility requirements\n\n\nOther requirements of note:\n\n\n	Must have been in operation as of February 29\, 2020\n	Venue or promoter who received a PPP loan on or after December 27\, 2020\, will have the SVOG reduced by the PPP loan amount.
X-ALT-DESC;FMTTYPE=text/html:<p style="box-sizing: inherit\; font-size: 18px\; line-height: 1.5\; margin-bottom: 1.1rem\; color: rgb(27\, 30\, 41)\; font-family: &quot\;Source Sans Pro&quot\;\, &quot\;Helvetica Neue&quot\;\, Helvetica\, Arial\, sans-serif\; letter-spacing: -0.4px\;">The Shuttered Venue Operators Grant (SVOG) program was established by the Economic Aid to Hard-Hit Small Businesses\, Nonprofits\, and Venues Act\, and amended by the American Rescue Plan Act.<br />\nThe program includes over $16 billion in grants to shuttered venues\, to be administered by SBA&rsquo\;s Office of Disaster Assistance.</p>\n\n<p style="box-sizing: inherit\; font-size: 18px\; line-height: 1.5\; margin-bottom: 1.1rem\; color: rgb(27\, 30\, 41)\; font-family: &quot\;Source Sans Pro&quot\;\, &quot\;Helvetica Neue&quot\;\, Helvetica\, Arial\, sans-serif\; letter-spacing: -0.4px\;">Eligible applicants may qualify for grants equal to&nbsp\;<span style="box-sizing: inherit\; font-weight: 600\;">45% of their gross earned revenue</span>\, with the maximum amount available for a single grant award of $10 million.<span style="box-sizing: inherit\; font-weight: 600\;">&nbsp\;$2 billion is reserved for eligible applications with up to 50 full-time employees.</span></p>\n\n<p style="box-sizing: inherit\; font-size: 18px\; line-height: 1.5\; margin-bottom: 1.1rem\; color: rgb(27\, 30\, 41)\; font-family: &quot\;Source Sans Pro&quot\;\, &quot\;Helvetica Neue&quot\;\, Helvetica\, Arial\, sans-serif\; letter-spacing: -0.4px\;">Eligible entities include:</p>\n\n<ul style="box-sizing: inherit\; list-style: circle\; margin: 0px\; padding-right: 0px\; padding-left: 0px\; color: rgb(27\, 30\, 41)\; font-family: &quot\;Source Sans Pro&quot\;\, &quot\;Helvetica Neue&quot\;\, Helvetica\, Arial\, sans-serif\; font-size: 18px\; letter-spacing: -0.4px\;">\n	<li style="box-sizing: inherit\; margin-left: 27px\; padding-left: 0px\;">Live venue operators or promoters</li>\n	<li style="box-sizing: inherit\; margin-left: 27px\; padding-left: 0px\;">Theatrical producers</li>\n	<li style="box-sizing: inherit\; margin-left: 27px\; padding-left: 0px\;">Live performing arts organization operators</li>\n	<li style="box-sizing: inherit\; margin-left: 27px\; padding-left: 0px\;">Relevant museum operators\, zoos and aquariums who meet specific criteria</li>\n	<li style="box-sizing: inherit\; margin-left: 27px\; padding-left: 0px\;">Motion picture theater operators</li>\n	<li style="box-sizing: inherit\; margin-left: 27px\; padding-left: 0px\;">Talent representatives</li>\n	<li style="box-sizing: inherit\; margin-left: 27px\; padding-left: 0px\;">Each business entity owned by an eligible entity that also meets the eligibility requirements</li>\n</ul>\n\n<p style="box-sizing: inherit\; font-size: 18px\; line-height: 1.5\; margin-bottom: 1.1rem\; color: rgb(27\, 30\, 41)\; font-family: &quot\;Source Sans Pro&quot\;\, &quot\;Helvetica Neue&quot\;\, Helvetica\, Arial\, sans-serif\; letter-spacing: -0.4px\;">Other requirements of note:</p>\n\n<ul style="box-sizing: inherit\; list-style: circle\; margin: 0px\; padding-right: 0px\; padding-left: 0px\; color: rgb(27\, 30\, 41)\; font-family: &quot\;Source Sans Pro&quot\;\, &quot\;Helvetica Neue&quot\;\, Helvetica\, Arial\, sans-serif\; font-size: 18px\; letter-spacing: -0.4px\;">\n	<li style="box-sizing: inherit\; margin-left: 27px\; padding-left: 0px\;">Must have been in operation as of February&nbsp\;29\, 2020</li>\n	<li style="box-sizing: inherit\; margin-left: 27px\; padding-left: 0px\;">Venue or promoter who received a PPP loan on or after December&nbsp\;27\, 2020\, will have the SVOG reduced by the PPP loan amount.</li>\n</ul>\n
LOCATION:
UID:e.3185.13423
SEQUENCE:3
DTSTAMP:20260423T211712Z
URL:http://business.wasillachamber.org/events/details/shuttered-venue-operators-grant-opens-applications-13423
END:VEVENT

END:VCALENDAR
