BEGIN:VCALENDAR
VERSION:2.0
PRODID:-//ChamberMaster//Event Calendar 2.0//EN
METHOD:PUBLISH
X-PUBLISHED-TTL:P3D
REFRESH-INTERVAL:P3D
CALSCALE:GREGORIAN
BEGIN:VEVENT
DTSTART:20210209T230000Z
DTEND:20210210T000000Z
X-MICROSOFT-CDO-ALLDAYEVENT:FALSE
SUMMARY:Request for Grant Application Overview
DESCRIPTION:The Alaska Department of Labor and Workforce Development\, Division of Employment and Training Services requests grant applications for projects designed to support the delivery of adult education and literacy activities in accordance with the Adult Education and Family Literacy Act\, Title II of WIOA.  \n\nApplicants must be considered an eligible provider who can demonstrate effectiveness in providing adult education and literacy activities to receive federal adult education funding.  All grant awards under this announcement are subject to availability of funds from the federal government and legislative appropriation. Selection of projects to be funded will be based on the strength of the proposal and overall scores obtained on the scoring rubric. Eligible providers with demonstrated effectiveness in providing adult education and literacy activities are encouraged to apply.\n\nThe attached Request for Grant Applications (RGA) includes detailed information regarding this solicitation. \n\nTeleconferences will be held to answer questions on the following topics: \n\n\n\nRGA and Application Overview: February 9th at 2PM\n\n\n\nGrant Requirements and Submission Overview: February 18th at 10AM\n\n\n\nDeadline for submission of grant applications: April 15th 2021 by 5PM
X-ALT-DESC;FMTTYPE=text/html:<p style="margin: 15px 0px 0px\; padding: 0px 0px 10px\; font-family: &quot\;Lucida Sans&quot\;\, Lato\, Helvetica\, Arial\, sans-serif\;">The Alaska Department of Labor and Workforce Development\, Division of Employment and Training Services requests grant applications for projects designed to support the delivery of adult education and literacy activities in accordance with the&nbsp\;<a href="https://gov.ecfr.io/cgi-bin/text-idx?SID=a456999f49dfdea587e1bd12a067235f&amp\;mc=true&amp\;node=pt34.3.463&amp\;rgn=div5" style="margin: 0px\; padding: 0px\; color: rgb(27\, 132\, 224)\; text-decoration-line: none\;">Adult Education and Family Literacy Act</a>\, Title II of&nbsp\;<a href="https://www.govinfo.gov/content/pkg/PLAW-113publ128/pdf/PLAW-113publ128.pdf" style="margin: 0px\; padding: 0px\; color: rgb(27\, 132\, 224)\; text-decoration-line: none\;">WIOA</a>.&nbsp\;&nbsp\;</p>\n\n<p style="margin: 15px 0px 0px\; padding: 0px 0px 10px\; font-family: &quot\;Lucida Sans&quot\;\, Lato\, Helvetica\, Arial\, sans-serif\;">Applicants must be considered an eligible provider who can demonstrate effectiveness in providing adult education and literacy activities to receive federal adult education funding.&nbsp\; All grant awards under this announcement are subject to availability of funds from the federal government and legislative appropriation. Selection of projects to be funded will be based on the strength of the proposal and overall scores obtained on the scoring rubric. Eligible providers with demonstrated effectiveness in providing adult education and literacy activities are encouraged to apply.</p>\n\n<p style="margin: 15px 0px 0px\; padding: 0px 0px 10px\; font-family: &quot\;Lucida Sans&quot\;\, Lato\, Helvetica\, Arial\, sans-serif\;">The attached Request for Grant Applications (RGA) includes detailed information regarding this solicitation.&nbsp\;</p>\n\n<p style="margin: 15px 0px 0px\; padding: 0px 0px 10px\; font-family: &quot\;Lucida Sans&quot\;\, Lato\, Helvetica\, Arial\, sans-serif\;">Teleconferences will be held to answer questions on the following topics:&nbsp\;<br />\n<br />\nRGA and Application Overview: February 9th at 2PM<br />\n<br />\nGrant Requirements and Submission Overview: February 18th at 10AM<br />\n<br />\nDeadline for submission of grant applications: April 15th 2021 by 5PM</p>\n
LOCATION:Teleconference and ZOOM Meeting ZOOM Meeting Link Dial by your location +1 253 215 8782 US (Tacoma)\; +1 346 248 7799 US (Houston)\; +1 646 558 8656 US (New York) Meeting ID: 907 465 8714 - Passcode: 5729945
UID:e.3185.10683
SEQUENCE:3
DTSTAMP:20260423T053422Z
URL:http://business.wasillachamber.org/events/details/request-for-grant-application-overview-10683
END:VEVENT

END:VCALENDAR
