BEGIN:VCALENDAR
VERSION:2.0
PRODID:-//ChamberMaster//Event Calendar 2.0//EN
METHOD:PUBLISH
X-PUBLISHED-TTL:P3D
REFRESH-INTERVAL:P3D
CALSCALE:GREGORIAN
BEGIN:VEVENT
DTSTART:20240327T013000Z
DTEND:20240327T033000Z
X-MICROSOFT-CDO-ALLDAYEVENT:FALSE
SUMMARY:Real Heroes Awards
DESCRIPTION:Honoring Amazing Heroes in Alaska\n\nThe American Red Cross of Alaska is pleased to share the 2024 Real Heroes Awards with you\; a showcase of Alaskan heroes doing what they do best   showing us that anybody can make a difference in the lives of others\, either by saving a life one day or tirelessly working each and every day for the benefit of Alaska communities. Enjoy a reception with our heroes\, sponsors\, and community members from 530-6pm\, followed by a heart-warming award ceremony from 6-730pm. This event is complimentary to the public thanks to our generous event sponsor\, ConocoPhillips Alaska.\n\n\n\n\n \n\n\n\n\nHero Categories:\n\nAdult Good Samaritan | Alaska Safety\n\nFire Rescue | Marine Rescue\n\nMedical Rescue | Military/Law Enforcement Rescue\n\nTransportation Safety | Wilderness Rescue\n\nWorkplace/Slope Safety | Youth Good Samaritan
X-ALT-DESC;FMTTYPE=text/html:<div class="text parbase" style="box-sizing: border-box\; color: rgb(33\, 37\, 41)\; font-family: &quot\;Open Sans&quot\;\, Arial\, Helvetica\, &quot\;Helvetica Neue&quot\;\, sans-serif\; font-size: 10px\;">\n<div class="rich-text-editor-content" style="box-sizing: border-box\; padding-top: 10px\; padding-bottom: 10px\;">\n<h5 style="box-sizing: border-box\; margin-top: 0px\; margin-bottom: 0.5rem\; font-family: Roboto\, Arial\, &quot\;Helvetica Neue&quot\;\, Helvetica\, sans-serif\; line-height: 1.1\; color: inherit\; font-size: 2.2rem\;"><span style="box-sizing: border-box\; font-weight: bolder\;">Honoring Amazing Heroes in Alaska</span></h5>\n\n<p style="box-sizing: border-box\; margin-top: 0px\; margin-bottom: 1rem\; font-family: &quot\;Open Sans&quot\;\, sans-serif\; font-size: 1.6rem\; line-height: 1.625em\; word-break: break-word\;">The American Red Cross of Alaska is pleased to share the 2024 Real Heroes Awards with you\; a showcase of Alaskan heroes doing what they do best &ndash\; showing us that anybody can make a difference in the lives of others\, either by saving a life one day or tirelessly working each and every day for the benefit of Alaska communities. Enjoy a reception with our heroes\, sponsors\, and community members from 530-6pm\, followed by a heart-warming award ceremony from 6-730pm. This event is complimentary to the public thanks to our generous event sponsor\, ConocoPhillips Alaska.</p>\n</div>\n</div>\n\n<div class="spacer parbase" style="box-sizing: border-box\; color: rgb(33\, 37\, 41)\; font-family: &quot\;Open Sans&quot\;\, Arial\, Helvetica\, &quot\;Helvetica Neue&quot\;\, sans-serif\; font-size: 10px\;">\n<div class="spacer-outer" style="box-sizing: border-box\; padding-bottom: 1rem\;">&nbsp\;</div>\n</div>\n\n<div class="text parbase" style="box-sizing: border-box\; color: rgb(33\, 37\, 41)\; font-family: &quot\;Open Sans&quot\;\, Arial\, Helvetica\, &quot\;Helvetica Neue&quot\;\, sans-serif\; font-size: 10px\;">\n<div class="rich-text-editor-content" style="box-sizing: border-box\; padding-top: 10px\; padding-bottom: 10px\;">\n<p style="box-sizing: border-box\; margin-top: 0px\; margin-bottom: 1rem\; font-family: &quot\;Open Sans&quot\;\, sans-serif\; font-size: 1.6rem\; line-height: 1.625em\; word-break: break-word\;"><span style="box-sizing: border-box\; font-weight: 700\;">Hero Categories:</span></p>\n\n<p style="box-sizing: border-box\; margin-top: 0px\; margin-bottom: 1rem\; font-family: &quot\;Open Sans&quot\;\, sans-serif\; font-size: 1.6rem\; line-height: 1.625em\; word-break: break-word\;"><span style="box-sizing: border-box\; font-weight: 700\;">Adult Good Samaritan | Alaska Safety<br style="box-sizing: border-box\;" />\nFire Rescue |&nbsp\;<span style="box-sizing: border-box\; background-color: transparent\;">Marine Rescue<br style="box-sizing: border-box\;" />\nMedical Rescue | Military/Law Enforcement Rescue<br style="box-sizing: border-box\;" />\nTransportation Safety | Wilderness Rescue<br style="box-sizing: border-box\;" />\nWorkplace/Slope Safety | Youth Good Samaritan</span></span></p>\n</div>\n</div>\n
LOCATION:Alaska Center for the Performing Arts Discovery Theatre 621 West 6th Ave Suite DT Anchorage\, AK 99501
UID:e.3185.21955
SEQUENCE:3
DTSTAMP:20260426T033313Z
URL:http://business.wasillachamber.org/events/details/real-heroes-awards-21955
END:VEVENT

END:VCALENDAR
