BEGIN:VCALENDAR
VERSION:2.0
PRODID:-//ChamberMaster//Event Calendar 2.0//EN
METHOD:PUBLISH
X-PUBLISHED-TTL:P3D
REFRESH-INTERVAL:P3D
CALSCALE:GREGORIAN
BEGIN:VEVENT
DTSTART:20220616T211500Z
DTEND:20220616T221500Z
X-MICROSOFT-CDO-ALLDAYEVENT:FALSE
SUMMARY:Parenting the Love & Logic Way with HeartReach Center
DESCRIPTION:Have you considered taking a class for parenting? Maybe you've thought you need some advice but can't commit to the price tag. Do you want to connect with other mom\, dads and guardians that are also busy doing the work of raising healthy and whole children?\n\n\n\nParenting the Love and Logic Way   is an evidence based\, practical guide to help you parent. This class is offered free to you due to the generosity of our donors. Registration is required. Call for more info and sign up (907) 373 3456\n\n\n\nNext session starts June 16!
X-ALT-DESC;FMTTYPE=text/html:<div class="kvgmc6g5 cxmmr5t8 oygrvhab hcukyx3x c1et5uql ii04i59q" style="overflow-wrap: break-word\; margin: 0px\; white-space: pre-wrap\; font-family: &quot\;Segoe UI Historic&quot\;\, &quot\;Segoe UI&quot\;\, Helvetica\, Arial\, sans-serif\; color: rgb(5\, 5\, 5)\; font-size: 15px\;">\n<div dir="auto" style="font-family: inherit\;">Have you considered taking a class for parenting? Maybe you&#39\;ve thought you need some advice but can&#39\;t commit to the price tag. Do you want to connect with other mom\, dads and guardians that are also busy doing the work of raising healthy and whole children?</div>\n</div>\n\n<div class="cxmmr5t8 oygrvhab hcukyx3x c1et5uql o9v6fnle ii04i59q" style="overflow-wrap: break-word\; margin: 0.5em 0px 0px\; white-space: pre-wrap\; font-family: &quot\;Segoe UI Historic&quot\;\, &quot\;Segoe UI&quot\;\, Helvetica\, Arial\, sans-serif\; color: rgb(5\, 5\, 5)\; font-size: 15px\;">\n<div dir="auto" style="font-family: inherit\;">Parenting the Love and Logic Way &reg\; is an evidence based\, practical guide to help you parent. This class is offered free to you due to the generosity of our donors. Registration is required. Call for more info and sign up (907) 373 3456</div>\n</div>\n\n<div class="cxmmr5t8 oygrvhab hcukyx3x c1et5uql o9v6fnle ii04i59q" style="overflow-wrap: break-word\; margin: 0.5em 0px 0px\; white-space: pre-wrap\; font-family: &quot\;Segoe UI Historic&quot\;\, &quot\;Segoe UI&quot\;\, Helvetica\, Arial\, sans-serif\; color: rgb(5\, 5\, 5)\; font-size: 15px\;">\n<div dir="auto" style="font-family: inherit\;">Next session starts June 16!</div>\n</div>\n
LOCATION:HeartReach Center 865 S. Seward Meridian Pkwy
UID:e.3185.16696
SEQUENCE:3
DTSTAMP:20260423T022501Z
URL:http://business.wasillachamber.org/events/details/parenting-the-love-logic-way-with-heartreach-center-16696
END:VEVENT

END:VCALENDAR
