BEGIN:VCALENDAR
VERSION:2.0
PRODID:-//ChamberMaster//Event Calendar 2.0//EN
METHOD:PUBLISH
X-PUBLISHED-TTL:P3D
REFRESH-INTERVAL:P3D
CALSCALE:GREGORIAN
BEGIN:VEVENT
DTSTART:20220701T013000Z
DTEND:20220701T030000Z
X-MICROSOFT-CDO-ALLDAYEVENT:FALSE
SUMMARY:Paint & Sip Night at Settlers Bay Golf Course
DESCRIPTION:Join Settlers Bay Golf Course to paint beautiful Alaska Watercolor.\n\nTicket includes all supplies to watercolor\, 2 glasses of wine or beverage\, and light horderves.\n\nGreat for all painting levels! Sara will take you step by step!\n\nVery limited seating for this event and it WILL sell out! Doors open at 5:30\; Paint instruction at 6 PM.\n\nPunch Cards and Paint Passes DO NOT Apply to this event.
X-ALT-DESC;FMTTYPE=text/html:<p style="margin: 25px 0px\; color: rgb(27\, 27\, 27)\; font-family: Montserrat\, sans-serif\; font-size: 11px\; text-align: center\;"><span style="color: rgb(5\, 5\, 5)\; font-family: &quot\;arial black&quot\;\, &quot\;avant garde&quot\;\; font-size: 12pt\;">Join&nbsp\;Settlers Bay Golf Course to paint beautiful Alaska Watercolor.</span></p>\n\n<p style="margin: 25px 0px\; color: rgb(27\, 27\, 27)\; font-family: Montserrat\, sans-serif\; font-size: 11px\; text-align: center\;"><span style="color: rgb(5\, 5\, 5)\; font-family: &quot\;arial black&quot\;\, &quot\;avant garde&quot\;\; font-size: 12pt\;">Ticket includes all supplies to watercolor\, 2 glasses of wine or beverage\, and light horderves.</span></p>\n\n<p style="margin: 25px 0px\; color: rgb(27\, 27\, 27)\; font-family: Montserrat\, sans-serif\; font-size: 11px\; text-align: center\;"><span style="color: rgb(5\, 5\, 5)\; font-family: &quot\;arial black&quot\;\, &quot\;avant garde&quot\;\; font-size: 12pt\;">Great for all painting levels! Sara will take you step by step!</span></p>\n\n<p style="margin: 25px 0px\; color: rgb(27\, 27\, 27)\; font-family: Montserrat\, sans-serif\; font-size: 11px\; text-align: center\;"><span style="color: rgb(5\, 5\, 5)\; font-family: &quot\;arial black&quot\;\, &quot\;avant garde&quot\;\; font-size: 12pt\;">Very limited seating for this event and it WILL sell out! Doors open at 5:30\; Paint instruction at 6 PM.</span></p>\n\n<p style="margin: 25px 0px\; color: rgb(27\, 27\, 27)\; font-family: Montserrat\, sans-serif\; font-size: 11px\; text-align: center\;"><span style="color: rgb(5\, 5\, 5)\; font-family: &quot\;arial black&quot\;\, &quot\;avant garde&quot\;\; font-size: 12pt\;">Punch Cards and Paint Passes DO NOT Apply to this event.</span></p>\n
LOCATION:Settlers Bay Golf Course 7307 S. Frontier Dr. Wasilla\, AK
UID:e.3185.16700
SEQUENCE:3
DTSTAMP:20260426T031339Z
URL:http://business.wasillachamber.org/events/details/paint-sip-night-at-settlers-bay-golf-course-16700
END:VEVENT

END:VCALENDAR
